BEGIN:VCALENDAR
VERSION:2.0
PRODID:-//SpacePolicyOnline.com - ECPv6.15.11//NONSGML v1.0//EN
CALSCALE:GREGORIAN
METHOD:PUBLISH
X-WR-CALNAME:SpacePolicyOnline.com
X-ORIGINAL-URL:https://spacepolicyonline.com
X-WR-CALDESC:Events for SpacePolicyOnline.com
REFRESH-INTERVAL;VALUE=DURATION:PT1H
X-Robots-Tag:noindex
X-PUBLISHED-TTL:PT1H
BEGIN:VTIMEZONE
TZID:America/New_York
BEGIN:DAYLIGHT
TZOFFSETFROM:-0500
TZOFFSETTO:-0400
TZNAME:EDT
DTSTART:20210314T070000
END:DAYLIGHT
BEGIN:STANDARD
TZOFFSETFROM:-0400
TZOFFSETTO:-0500
TZNAME:EST
DTSTART:20211107T060000
END:STANDARD
BEGIN:DAYLIGHT
TZOFFSETFROM:-0500
TZOFFSETTO:-0400
TZNAME:EDT
DTSTART:20220313T070000
END:DAYLIGHT
BEGIN:STANDARD
TZOFFSETFROM:-0400
TZOFFSETTO:-0500
TZNAME:EST
DTSTART:20221106T060000
END:STANDARD
BEGIN:DAYLIGHT
TZOFFSETFROM:-0500
TZOFFSETTO:-0400
TZNAME:EDT
DTSTART:20230312T070000
END:DAYLIGHT
BEGIN:STANDARD
TZOFFSETFROM:-0400
TZOFFSETTO:-0500
TZNAME:EST
DTSTART:20231105T060000
END:STANDARD
END:VTIMEZONE
BEGIN:VEVENT
DTSTART;TZID=America/New_York:20220728T163000
DTEND;TZID=America/New_York:20220728T230000
DTSTAMP:20260424T164246
CREATED:20220724T204451Z
LAST-MODIFIED:20220724T204451Z
UID:55104-1659025800-1659049200@spacepolicyonline.com
SUMMARY:STA EVENT ON PLANETARY DEFENSE WITH LINDLEY JOHNSON AND ANDY RIVKIN\, July 28\, 2022\, DC/virtual\, 4:30-6:30 pm ET
DESCRIPTION:The Space Transportation Association (STA) will hold a hybrid event on July 28\, 2022 to discuss planetary defense.  Speakers are Lindley Johnson\, NASA’s Planetary Defense Officer\, and Andy Rivkin\, planetary astronomer at Johns Hopkins Applied Physics Lab. \nTheir topic is “Planetary Defense and Our Path Forward\, and DART Update.”  DART is the spacecraft now enroute to collide with the tiny moon of a small asteroid to demonstrate a technique for altering the asteroid’s trajectory. \nThe talk is from 5:00-6:00 pm ET\, with a reception starting at 4:30 pm and continuing after the talk from 6:00-6:30 for in-person attendees. \nSTA events are by invitation only.  Contact STA President Rich Coleman for more information: rich@spacetransportation.us
URL:https://spacepolicyonline.com/events/sta-event-on-planetary-defense-with-lindley-johnson-and-andy-rivkin-july-28-2022-dc-virtual-430-630-pm-et/
END:VEVENT
END:VCALENDAR