BEGIN:VCALENDAR
VERSION:2.0
PRODID:-//SpacePolicyOnline.com - ECPv6.15.11//NONSGML v1.0//EN
CALSCALE:GREGORIAN
METHOD:PUBLISH
X-WR-CALNAME:SpacePolicyOnline.com
X-ORIGINAL-URL:https://spacepolicyonline.com
X-WR-CALDESC:Events for SpacePolicyOnline.com
REFRESH-INTERVAL;VALUE=DURATION:PT1H
X-Robots-Tag:noindex
X-PUBLISHED-TTL:PT1H
BEGIN:VTIMEZONE
TZID:America/New_York
BEGIN:DAYLIGHT
TZOFFSETFROM:-0500
TZOFFSETTO:-0400
TZNAME:EDT
DTSTART:20180311T070000
END:DAYLIGHT
BEGIN:STANDARD
TZOFFSETFROM:-0400
TZOFFSETTO:-0500
TZNAME:EST
DTSTART:20181104T060000
END:STANDARD
BEGIN:DAYLIGHT
TZOFFSETFROM:-0500
TZOFFSETTO:-0400
TZNAME:EDT
DTSTART:20190310T070000
END:DAYLIGHT
BEGIN:STANDARD
TZOFFSETFROM:-0400
TZOFFSETTO:-0500
TZNAME:EST
DTSTART:20191103T060000
END:STANDARD
BEGIN:DAYLIGHT
TZOFFSETFROM:-0500
TZOFFSETTO:-0400
TZNAME:EDT
DTSTART:20200308T070000
END:DAYLIGHT
BEGIN:STANDARD
TZOFFSETFROM:-0400
TZOFFSETTO:-0500
TZNAME:EST
DTSTART:20201101T060000
END:STANDARD
END:VTIMEZONE
BEGIN:VEVENT
DTSTART;TZID=America/New_York:20191018T130000
DTEND;TZID=America/New_York:20191018T230000
DTSTAMP:20260420T015403
CREATED:20190925T202352Z
LAST-MODIFIED:20190925T203154Z
UID:29221-1571403600-1571439600@spacepolicyonline.com
SUMMARY:STA EVENT WITH JAXA ASTRONAUT SOICHI NOGUCHI\, Oct 18\, 2019\, DC\, 1:00-2:00 pm ET (invitation only)
DESCRIPTION:The Space Transportation Association (STA) will host an event with Soichi Noguchi\, an astronaut for the Japan Aerospace Exploration Agency (JAXA). \nThe event will take place in 2325 Rayburn House Office Building on October 18\, 2019 from 1:00-2:00 pm ET. \nSTA events are by invitation only.  Contact Rich Coleman or Alexandra Hale at rich@spacetransportation.us \n 
URL:https://spacepolicyonline.com/events/sta-event-with-jaxa-astronaut-soichi-noguchi-oct-18-2019-dc-100-200-pm-et-invitation-only/
END:VEVENT
END:VCALENDAR