BEGIN:VCALENDAR
VERSION:2.0
PRODID:-//SpacePolicyOnline.com - ECPv6.15.11//NONSGML v1.0//EN
CALSCALE:GREGORIAN
METHOD:PUBLISH
X-WR-CALNAME:SpacePolicyOnline.com
X-ORIGINAL-URL:https://spacepolicyonline.com
X-WR-CALDESC:Events for SpacePolicyOnline.com
REFRESH-INTERVAL;VALUE=DURATION:PT1H
X-Robots-Tag:noindex
X-PUBLISHED-TTL:PT1H
BEGIN:VTIMEZONE
TZID:America/New_York
BEGIN:DAYLIGHT
TZOFFSETFROM:-0500
TZOFFSETTO:-0400
TZNAME:EDT
DTSTART:20160313T070000
END:DAYLIGHT
BEGIN:STANDARD
TZOFFSETFROM:-0400
TZOFFSETTO:-0500
TZNAME:EST
DTSTART:20161106T060000
END:STANDARD
BEGIN:DAYLIGHT
TZOFFSETFROM:-0500
TZOFFSETTO:-0400
TZNAME:EDT
DTSTART:20170312T070000
END:DAYLIGHT
BEGIN:STANDARD
TZOFFSETFROM:-0400
TZOFFSETTO:-0500
TZNAME:EST
DTSTART:20171105T060000
END:STANDARD
BEGIN:DAYLIGHT
TZOFFSETFROM:-0500
TZOFFSETTO:-0400
TZNAME:EDT
DTSTART:20180311T070000
END:DAYLIGHT
BEGIN:STANDARD
TZOFFSETFROM:-0400
TZOFFSETTO:-0500
TZNAME:EST
DTSTART:20181104T060000
END:STANDARD
END:VTIMEZONE
BEGIN:VEVENT
DTSTART;TZID=America/New_York:20171012T113000
DTEND;TZID=America/New_York:20171012T143000
DTSTAMP:20260422T195104
CREATED:20170803T011823Z
LAST-MODIFIED:20171011T181540Z
UID:8824-1507807800-1507818600@spacepolicyonline.com
SUMMARY:STA Luncheon Featuring NASA's Todd May\, Oct 12\, 2017\, Capitol Hill Club\, Washington\, DC\, 11:30 am - 12:40 pm ET
DESCRIPTION:UPDATE\, October 11:  STA announced today that “due to popularity of the event\, the event will take place in Pennsylvania\, Texas\, and Leaders rooms at Capitol Hill Club on the third floor instead of the rooms on the fourth.  Also\, the schedule is for a reception at 11:30 am ET\, introduction of the speaker by Rep. Robert Aderholt and Rep. Mo Brooks at 11:50 pm\, and the talk from 12:00-12:40 pm (which is slightly accelerated from the normal schedule of these events.) \nOriginal Entry:  The Space Transportation Association will hold a luncheon on October 12\, 2017 from 11:30 am – 1:00 pm ET at the Capitol Hill Club\, 300 First St.\, SE\, Washington\, DC.  The luncheon will take place in the Roosevelt and Taft rooms on the 4th floor.  The speaker is Todd May\, Director of NASA’s Marshall Space Flight Center. \nThe event is by invitation only.  Contact Rich Coleman at STA:  rich@spacetransportation.us
URL:https://spacepolicyonline.com/events/sta-luncheon-featuring-nasas-todd-may-oct-2017-dc/
END:VEVENT
END:VCALENDAR