BEGIN:VCALENDAR
VERSION:2.0
PRODID:-//SpacePolicyOnline.com - ECPv6.15.11//NONSGML v1.0//EN
CALSCALE:GREGORIAN
METHOD:PUBLISH
X-WR-CALNAME:SpacePolicyOnline.com
X-ORIGINAL-URL:https://spacepolicyonline.com
X-WR-CALDESC:Events for SpacePolicyOnline.com
REFRESH-INTERVAL;VALUE=DURATION:PT1H
X-Robots-Tag:noindex
X-PUBLISHED-TTL:PT1H
BEGIN:VTIMEZONE
TZID:America/New_York
BEGIN:DAYLIGHT
TZOFFSETFROM:-0500
TZOFFSETTO:-0400
TZNAME:EDT
DTSTART:20220313T070000
END:DAYLIGHT
BEGIN:STANDARD
TZOFFSETFROM:-0400
TZOFFSETTO:-0500
TZNAME:EST
DTSTART:20221106T060000
END:STANDARD
BEGIN:DAYLIGHT
TZOFFSETFROM:-0500
TZOFFSETTO:-0400
TZNAME:EDT
DTSTART:20230312T070000
END:DAYLIGHT
BEGIN:STANDARD
TZOFFSETFROM:-0400
TZOFFSETTO:-0500
TZNAME:EST
DTSTART:20231105T060000
END:STANDARD
BEGIN:DAYLIGHT
TZOFFSETFROM:-0500
TZOFFSETTO:-0400
TZNAME:EDT
DTSTART:20240310T070000
END:DAYLIGHT
BEGIN:STANDARD
TZOFFSETFROM:-0400
TZOFFSETTO:-0500
TZNAME:EST
DTSTART:20241103T060000
END:STANDARD
END:VTIMEZONE
BEGIN:VEVENT
DTSTART;TZID=America/New_York:20230110T160000
DTEND;TZID=America/New_York:20230110T230000
DTSTAMP:20260422T140113
CREATED:20230108T183241Z
LAST-MODIFIED:20230108T183241Z
UID:59172-1673366400-1673391600@spacepolicyonline.com
SUMMARY:STA RECEPTION WITH REP. FRANK LUCAS\, Jan 10\, 2023\, DC\, 4:00-5:30 pm ET
DESCRIPTION:The Space Transportation Association (STA) will hold a reception on Capitol Hill on January 10\, 2023 with Rep. Frank Lucas (R-OK)\, incoming chair of the House Science\, Space\, and Technology Committee. He’ll discuss what may in store for NASA and space exploration for next year and beyond. \nSTA events are by invitation only. \n 
URL:https://spacepolicyonline.com/events/sta-reception-with-rep-frank-lucas-jan-10-2023-dc-400-530-pm-et/
END:VEVENT
END:VCALENDAR