BEGIN:VCALENDAR
VERSION:2.0
PRODID:-//SpacePolicyOnline.com - ECPv6.15.11//NONSGML v1.0//EN
CALSCALE:GREGORIAN
METHOD:PUBLISH
X-WR-CALNAME:SpacePolicyOnline.com
X-ORIGINAL-URL:https://spacepolicyonline.com
X-WR-CALDESC:Events for SpacePolicyOnline.com
REFRESH-INTERVAL;VALUE=DURATION:PT1H
X-Robots-Tag:noindex
X-PUBLISHED-TTL:PT1H
BEGIN:VTIMEZONE
TZID:America/New_York
BEGIN:DAYLIGHT
TZOFFSETFROM:-0500
TZOFFSETTO:-0400
TZNAME:EDT
DTSTART:20200308T070000
END:DAYLIGHT
BEGIN:STANDARD
TZOFFSETFROM:-0400
TZOFFSETTO:-0500
TZNAME:EST
DTSTART:20201101T060000
END:STANDARD
BEGIN:DAYLIGHT
TZOFFSETFROM:-0500
TZOFFSETTO:-0400
TZNAME:EDT
DTSTART:20210314T070000
END:DAYLIGHT
BEGIN:STANDARD
TZOFFSETFROM:-0400
TZOFFSETTO:-0500
TZNAME:EST
DTSTART:20211107T060000
END:STANDARD
BEGIN:DAYLIGHT
TZOFFSETFROM:-0500
TZOFFSETTO:-0400
TZNAME:EDT
DTSTART:20220313T070000
END:DAYLIGHT
BEGIN:STANDARD
TZOFFSETFROM:-0400
TZOFFSETTO:-0500
TZNAME:EST
DTSTART:20221106T060000
END:STANDARD
END:VTIMEZONE
BEGIN:VEVENT
DTSTART;TZID=America/New_York:20210602T150000
DTEND;TZID=America/New_York:20210602T230000
DTSTAMP:20260420T164902
CREATED:20210528T010414Z
LAST-MODIFIED:20210528T010947Z
UID:44353-1622646000-1622674800@spacepolicyonline.com
SUMMARY:STATE OF NASA ADDRESS BY ADMINISTRATOR NELSON\, June 2\, 2021\, DC/virtual\, 3:00 pm ET
DESCRIPTION:NASA Administrator Bill Nelson will make his first address to the NASA workforce on June 2\, 2021 at 3:00 pm ET from the James Webb auditorium at NASA HQ in Washington\, DC. \nIn a “State of NASA” address\, Nelson and other top NASA officials will talk about the agency’s plans for future climate science missions\, a robotic and human return to the Moon through the Artemis program\, and more. (In recent years\, NASA officials have conducted State of NASA events in conjunction with the release of the agency’s fiscal year budget request.  NASA’s full FY2022 budget request will be released by the White House on May 28.) \nThe event will air live on NASA Television\, the NASA app\, and the agency’s website. \nFollowing his remarks\, Nelson will speak to members of the media along with — \n\nBob Gibbs\, associate administrator for mission support\nKathy Lueders\, associate administrator for human exploration and operations\nBob Pearce\, associate administrator for aeronautics research\nJim Reuter\, associate administrator for space technology\nDr. Thomas Zurbuchen\, associate administrator for science\n\nFor the first time since the pandemic\, a limited number of reporters will be allowed to listen to the remarks from a conference room at NASA HQ close to the Webb Auditorium and then move to the auditorium for the Q&A.
URL:https://spacepolicyonline.com/events/state-of-nasa-address-by-administrator-nelson-june-2-2021-dc-virtual-300-pm-et/
END:VEVENT
END:VCALENDAR