BEGIN:VCALENDAR
VERSION:2.0
PRODID:-//SpacePolicyOnline.com - ECPv6.15.11//NONSGML v1.0//EN
CALSCALE:GREGORIAN
METHOD:PUBLISH
X-WR-CALNAME:SpacePolicyOnline.com
X-ORIGINAL-URL:https://spacepolicyonline.com
X-WR-CALDESC:Events for SpacePolicyOnline.com
REFRESH-INTERVAL;VALUE=DURATION:PT1H
X-Robots-Tag:noindex
X-PUBLISHED-TTL:PT1H
BEGIN:VTIMEZONE
TZID:America/New_York
BEGIN:DAYLIGHT
TZOFFSETFROM:-0500
TZOFFSETTO:-0400
TZNAME:EDT
DTSTART:20210314T070000
END:DAYLIGHT
BEGIN:STANDARD
TZOFFSETFROM:-0400
TZOFFSETTO:-0500
TZNAME:EST
DTSTART:20211107T060000
END:STANDARD
BEGIN:DAYLIGHT
TZOFFSETFROM:-0500
TZOFFSETTO:-0400
TZNAME:EDT
DTSTART:20220313T070000
END:DAYLIGHT
BEGIN:STANDARD
TZOFFSETFROM:-0400
TZOFFSETTO:-0500
TZNAME:EST
DTSTART:20221106T060000
END:STANDARD
BEGIN:DAYLIGHT
TZOFFSETFROM:-0500
TZOFFSETTO:-0400
TZNAME:EDT
DTSTART:20230312T070000
END:DAYLIGHT
BEGIN:STANDARD
TZOFFSETFROM:-0400
TZOFFSETTO:-0500
TZNAME:EST
DTSTART:20231105T060000
END:STANDARD
END:VTIMEZONE
BEGIN:VEVENT
DTSTART;TZID=America/New_York:20220325T130000
DTEND;TZID=America/New_York:20220325T230000
DTSTAMP:20260419T175506
CREATED:20220322T171004Z
LAST-MODIFIED:20220322T171004Z
UID:51628-1648213200-1648249200@spacepolicyonline.com
SUMMARY:SUSTAINABILITY CHALLENGE: BEYOND PLASTICS (ISS National Lab)\, Mar 25\, 2022\, virtual\,1:00 pm ET\,
DESCRIPTION:The ISS National Lab will hold a virtual event on March 25\, 2022 at 1:00 pm ET where presentations and awards will be made for its Sustainability Challenge: Beyond Plastics. \nMore information and a registration link are on the event’s website\, which says: \nHow can we reduce the amount of plastic waste we put into the environment? By reimagining how we use plastic. By utilizing the unique characteristics of the orbiting laboratory\, the ISS National Lab Sustainability Challenge: Beyond Plastics aims to do just that. \nThe Sustainability Challenge sought proposals from U.S.-based entities to develop flight projects that leverage the space station to tackle plastic waste and enable scientific or technological advancements that could help improve Earth’s environment. We intend to select one or more flight projects through this Sustainability Challenge. \nCASIS will hold a virtual event on March 25\, 2022\, that will feature finalists’ recorded presentations and exciting guest speakers\, culminating with an award ceremony recognizing the top ranked finalists. The event will be livestreamed to a global audience broadcast to viewers via Zoom. Following the event\, finalists will be invited to submit a Full Proposal for a flight project leveraging the ISS National Lab\, and the Final Determination for the selected team will be announced at the 2022 ISS Research and Development Conference July 25-28 in Washington\, D.C.
URL:https://spacepolicyonline.com/events/sustainability-challenge-beyond-plastics-iss-national-lab-mar-25-2022-virtual100-pm-et/
END:VEVENT
END:VCALENDAR