BEGIN:VCALENDAR
VERSION:2.0
PRODID:-//SpacePolicyOnline.com - ECPv6.15.11//NONSGML v1.0//EN
CALSCALE:GREGORIAN
METHOD:PUBLISH
X-WR-CALNAME:SpacePolicyOnline.com
X-ORIGINAL-URL:https://spacepolicyonline.com
X-WR-CALDESC:Events for SpacePolicyOnline.com
REFRESH-INTERVAL;VALUE=DURATION:PT1H
X-Robots-Tag:noindex
X-PUBLISHED-TTL:PT1H
BEGIN:VTIMEZONE
TZID:America/New_York
BEGIN:DAYLIGHT
TZOFFSETFROM:-0500
TZOFFSETTO:-0400
TZNAME:EDT
DTSTART:20220313T070000
END:DAYLIGHT
BEGIN:STANDARD
TZOFFSETFROM:-0400
TZOFFSETTO:-0500
TZNAME:EST
DTSTART:20221106T060000
END:STANDARD
BEGIN:DAYLIGHT
TZOFFSETFROM:-0500
TZOFFSETTO:-0400
TZNAME:EDT
DTSTART:20230312T070000
END:DAYLIGHT
BEGIN:STANDARD
TZOFFSETFROM:-0400
TZOFFSETTO:-0500
TZNAME:EST
DTSTART:20231105T060000
END:STANDARD
BEGIN:DAYLIGHT
TZOFFSETFROM:-0500
TZOFFSETTO:-0400
TZNAME:EDT
DTSTART:20240310T070000
END:DAYLIGHT
BEGIN:STANDARD
TZOFFSETFROM:-0400
TZOFFSETTO:-0500
TZNAME:EST
DTSTART:20241103T060000
END:STANDARD
END:VTIMEZONE
BEGIN:VEVENT
DTSTART;TZID=America/New_York:20230112T170000
DTEND;TZID=America/New_York:20230112T230000
DTSTAMP:20260422T112609
CREATED:20230112T000302Z
LAST-MODIFIED:20230112T000302Z
UID:59263-1673542800-1673564400@spacepolicyonline.com
SUMMARY:SWF WITH GEN. B. CHANCE SALTZMAN (Space Force Assn)\, Jan 12\, 2023\, virtual\, 5:00 pm ET
DESCRIPTION:The Space Force Association will hold Space Warfighters Forum (SWF) webinar on January 12\, 2023 from 5:00-6:00 pm ET with Gen. B. Chance Saltzman\, Chief of Space Operations for the U.S. Space Force. \nMore information is on the event’s website.
URL:https://spacepolicyonline.com/events/swf-with-gen-b-chance-saltzman-space-force-assn-jan-12-2023-virtual-500-pm-et/
END:VEVENT
END:VCALENDAR