BEGIN:VCALENDAR
VERSION:2.0
PRODID:-//SpacePolicyOnline.com - ECPv6.15.11//NONSGML v1.0//EN
CALSCALE:GREGORIAN
METHOD:PUBLISH
X-WR-CALNAME:SpacePolicyOnline.com
X-ORIGINAL-URL:https://spacepolicyonline.com
X-WR-CALDESC:Events for SpacePolicyOnline.com
REFRESH-INTERVAL;VALUE=DURATION:PT1H
X-Robots-Tag:noindex
X-PUBLISHED-TTL:PT1H
BEGIN:VTIMEZONE
TZID:America/New_York
BEGIN:DAYLIGHT
TZOFFSETFROM:-0500
TZOFFSETTO:-0400
TZNAME:EDT
DTSTART:20210314T070000
END:DAYLIGHT
BEGIN:STANDARD
TZOFFSETFROM:-0400
TZOFFSETTO:-0500
TZNAME:EST
DTSTART:20211107T060000
END:STANDARD
BEGIN:DAYLIGHT
TZOFFSETFROM:-0500
TZOFFSETTO:-0400
TZNAME:EDT
DTSTART:20220313T070000
END:DAYLIGHT
BEGIN:STANDARD
TZOFFSETFROM:-0400
TZOFFSETTO:-0500
TZNAME:EST
DTSTART:20221106T060000
END:STANDARD
BEGIN:DAYLIGHT
TZOFFSETFROM:-0500
TZOFFSETTO:-0400
TZNAME:EDT
DTSTART:20230312T070000
END:DAYLIGHT
BEGIN:STANDARD
TZOFFSETFROM:-0400
TZOFFSETTO:-0500
TZNAME:EST
DTSTART:20231105T060000
END:STANDARD
END:VTIMEZONE
BEGIN:VEVENT
DTSTART;TZID=America/New_York:20220313T140000
DTEND;TZID=America/New_York:20220313T230000
DTSTAMP:20260419T203204
CREATED:20220312T145147Z
LAST-MODIFIED:20220312T145653Z
UID:51326-1647180000-1647212400@spacepolicyonline.com
SUMMARY:SxSW PANEL ON "SPACE FORCE: MORE THAN A MEME"\, Mar 13\, 2022\, Austin\, TX\, 2:15 pm ET
DESCRIPTION:A panel discussion on “Space Force: More Than a Meme” will take place at the SxSW conference in Austin\, on Sunday\, March 13\, 2022 from 2:15-3:15 pm EDT (1:15-2:15 pm local time)\, \nThis panel will be livestreamed. \nParticipants are: \n\nEric Fanning\, Aerospace Industries Association CEO and President\, 22nd Secretary of the Army\nBill Conley\, Mercury Systems\nMaj. Gen. Kim Crider (Ret.)\, Deloitte (former Chief Technology Innovation Officer\, U.S. Space Force)\nMo Islam\, Payload Space
URL:https://spacepolicyonline.com/events/sxsw-panel-on-space-force-more-than-a-meme-mar-13-2022-austin-tx/
END:VEVENT
END:VCALENDAR