BEGIN:VCALENDAR
VERSION:2.0
PRODID:-//SpacePolicyOnline.com - ECPv6.15.11//NONSGML v1.0//EN
CALSCALE:GREGORIAN
METHOD:PUBLISH
X-WR-CALNAME:SpacePolicyOnline.com
X-ORIGINAL-URL:https://spacepolicyonline.com
X-WR-CALDESC:Events for SpacePolicyOnline.com
REFRESH-INTERVAL;VALUE=DURATION:PT1H
X-Robots-Tag:noindex
X-PUBLISHED-TTL:PT1H
BEGIN:VTIMEZONE
TZID:America/New_York
BEGIN:DAYLIGHT
TZOFFSETFROM:-0500
TZOFFSETTO:-0400
TZNAME:EDT
DTSTART:20210314T070000
END:DAYLIGHT
BEGIN:STANDARD
TZOFFSETFROM:-0400
TZOFFSETTO:-0500
TZNAME:EST
DTSTART:20211107T060000
END:STANDARD
BEGIN:DAYLIGHT
TZOFFSETFROM:-0500
TZOFFSETTO:-0400
TZNAME:EDT
DTSTART:20220313T070000
END:DAYLIGHT
BEGIN:STANDARD
TZOFFSETFROM:-0400
TZOFFSETTO:-0500
TZNAME:EST
DTSTART:20221106T060000
END:STANDARD
BEGIN:DAYLIGHT
TZOFFSETFROM:-0500
TZOFFSETTO:-0400
TZNAME:EDT
DTSTART:20230312T070000
END:DAYLIGHT
BEGIN:STANDARD
TZOFFSETFROM:-0400
TZOFFSETTO:-0500
TZNAME:EST
DTSTART:20231105T060000
END:STANDARD
END:VTIMEZONE
BEGIN:VEVENT
DTSTART;TZID=America/New_York:20220126T130000
DTEND;TZID=America/New_York:20220126T230000
DTSTAMP:20260420T032738
CREATED:20220115T231127Z
LAST-MODIFIED:20220115T231145Z
UID:49805-1643202000-1643238000@spacepolicyonline.com
SUMMARY:TAKING ACTION: SPACE INDUSTRY AND CLIMATE CHANGE (Space Foundation)\, Jan 26\, 2022\, virtual\, 1:00 pm ET
DESCRIPTION:The Space Foundation will hold the next in its Symposium 365 series on January 26\, 2022 at 1:00 pm ET. \nThe topic is “Taking Action: How the Space Industry is Adapting and Mitigating the Impacts of Climate Change\, Part 2 of a 3-part series.” \nMore information is on the event’s website.
URL:https://spacepolicyonline.com/events/taking-action-space-industry-and-climate-change-space-foundation-jan-26-2022-virtual-100-pm-et/
END:VEVENT
END:VCALENDAR