BEGIN:VCALENDAR
VERSION:2.0
PRODID:-//SpacePolicyOnline.com - ECPv6.15.11//NONSGML v1.0//EN
CALSCALE:GREGORIAN
METHOD:PUBLISH
X-WR-CALNAME:SpacePolicyOnline.com
X-ORIGINAL-URL:https://spacepolicyonline.com
X-WR-CALDESC:Events for SpacePolicyOnline.com
REFRESH-INTERVAL;VALUE=DURATION:PT1H
X-Robots-Tag:noindex
X-PUBLISHED-TTL:PT1H
BEGIN:VTIMEZONE
TZID:America/New_York
BEGIN:DAYLIGHT
TZOFFSETFROM:-0500
TZOFFSETTO:-0400
TZNAME:EDT
DTSTART:20240310T070000
END:DAYLIGHT
BEGIN:STANDARD
TZOFFSETFROM:-0400
TZOFFSETTO:-0500
TZNAME:EST
DTSTART:20241103T060000
END:STANDARD
BEGIN:DAYLIGHT
TZOFFSETFROM:-0500
TZOFFSETTO:-0400
TZNAME:EDT
DTSTART:20250309T070000
END:DAYLIGHT
BEGIN:STANDARD
TZOFFSETFROM:-0400
TZOFFSETTO:-0500
TZNAME:EST
DTSTART:20251102T060000
END:STANDARD
BEGIN:DAYLIGHT
TZOFFSETFROM:-0500
TZOFFSETTO:-0400
TZNAME:EDT
DTSTART:20260308T070000
END:DAYLIGHT
BEGIN:STANDARD
TZOFFSETFROM:-0400
TZOFFSETTO:-0500
TZNAME:EST
DTSTART:20261101T060000
END:STANDARD
END:VTIMEZONE
BEGIN:VEVENT
DTSTART;TZID=America/New_York:20250809T103000
DTEND;TZID=America/New_York:20250809T230000
DTSTAMP:20260419T153430
CREATED:20250806T114404Z
LAST-MODIFIED:20250808T183317Z
UID:83084-1754735400-1754780400@spacepolicyonline.com
SUMMARY:CREW-10 SPLASHDOWN\, Aug 9\, 2025\, Pacific Ocean\, 11:33 am ET
DESCRIPTION:Update\, August 8:  Crew-10 continues to plan to undock today and splashdown tomorrow.  NASA’s coverage is as follow: \nFriday\, Aug. 8\n3:45 p.m. – Hatch closure coverage begins.\n4:20 p.m. – Hatch closing\n5:45 p.m. – Undocking coverage begins.\n6:05 p.m. – Undocking \nSaturday\, Aug. 9\n10:15 a.m. – Return coverage begins.\n10:39 a.m. – Deorbit burn\n11:33 a.m. – Splashdown\n1 p.m. – Return to Earth media teleconference will stream live on the agency’s YouTube channel. To ask questions\, media must dial in no later than 10 minutes before the start of the call. \nUpdate\, August 7:  Crew 10’s return has been postponed a day due to high winds at the splashdown locations off the coast of California.  The new dates are: \n\nFriday\, August 8\, undock\, 6:05 pm ET\nSaturday\, August 9\, splashdown\, 11:33 am ET\n\nNASA hasn’t yet updated the press release where specifics are provided on live coverage. Check that later for up to date information. \nUpdate\, August 6\, 7:30 pm ET:  NASA confirms that Crew-10 will undock tomorrow\, August 7\, at 12:05 pm ET and splashdown on August 8 at 11:58 pm ET. \nNASA coverage is as follows: \nThursday\, Aug. 7 \n9:45 a.m. – Hatch closure coverage begins on NASA+ and Amazon Prime. \n10:20 a.m. – Hatch closing \n11:45 a.m. – Undocking coverage begins on NASA+ and Amazon Prime. \n12:05 p.m. – Undocking \nFollowing the conclusion of undocking coverage\, NASA will distribute audio-only discussions between Crew-10\, the space station\, and flight controllers during Dragon’s transit away from the orbital complex. \nFriday\, Aug. 8 \n10:45 a.m. – Return coverage begins on NASA+ and Amazon Prime. \n11:08 a.m. – Deorbit burn \n11:58 a.m. – Splashdown \n1:30 p.m. – Return to Earth media teleconference will stream live on the agency’s YouTube channel\, with the following participants: \n\nSteve Stich\, manager\, NASA’s Commercial Crew Program\nDina Contella\, deputy manager\, NASA’s International Space Station Program\nSarah Walker\, director\, Dragon Mission Management\, SpaceX\nKazuyoshi Kawasaki\, associate director general\, Space Exploration Center/Space Exploration Innovation Hub Center\, JAXA\n\n  \nOriginal Entry: NASA is currently targeting August 7\, 2025 at 12:05 pm ET for Crew-10 to undock from the International Space Station\, with splashdown in the Pacific Ocean off the coast of California almost 24 hours later on August 8 at 11:58 am ET.  The dates are tentative pending weather review.
URL:https://spacepolicyonline.com/events/tentative-date-for-crew-10-splashdown-aug-8-2025-pacific-ocean-1158-am-et/
END:VEVENT
END:VCALENDAR