BEGIN:VCALENDAR
VERSION:2.0
PRODID:-//SpacePolicyOnline.com - ECPv6.15.11//NONSGML v1.0//EN
CALSCALE:GREGORIAN
METHOD:PUBLISH
X-WR-CALNAME:SpacePolicyOnline.com
X-ORIGINAL-URL:https://spacepolicyonline.com
X-WR-CALDESC:Events for SpacePolicyOnline.com
REFRESH-INTERVAL;VALUE=DURATION:PT1H
X-Robots-Tag:noindex
X-PUBLISHED-TTL:PT1H
BEGIN:VTIMEZONE
TZID:America/New_York
BEGIN:DAYLIGHT
TZOFFSETFROM:-0500
TZOFFSETTO:-0400
TZNAME:EDT
DTSTART:20240310T070000
END:DAYLIGHT
BEGIN:STANDARD
TZOFFSETFROM:-0400
TZOFFSETTO:-0500
TZNAME:EST
DTSTART:20241103T060000
END:STANDARD
BEGIN:DAYLIGHT
TZOFFSETFROM:-0500
TZOFFSETTO:-0400
TZNAME:EDT
DTSTART:20250309T070000
END:DAYLIGHT
BEGIN:STANDARD
TZOFFSETFROM:-0400
TZOFFSETTO:-0500
TZNAME:EST
DTSTART:20251102T060000
END:STANDARD
BEGIN:DAYLIGHT
TZOFFSETFROM:-0500
TZOFFSETTO:-0400
TZNAME:EDT
DTSTART:20260308T070000
END:DAYLIGHT
BEGIN:STANDARD
TZOFFSETFROM:-0400
TZOFFSETTO:-0500
TZNAME:EST
DTSTART:20261101T060000
END:STANDARD
END:VTIMEZONE
BEGIN:VEVENT
DTSTART;TZID=America/New_York:20250324T130000
DTEND;TZID=America/New_York:20250324T230000
DTSTAMP:20260419T232839
CREATED:20250317T170340Z
LAST-MODIFIED:20250317T172507Z
UID:79226-1742821200-1742857200@spacepolicyonline.com
SUMMARY:THE HYPERSONICS REVOLUTION--CONVERSATION WITH MARK LEWIS (Space News)\, Mar 24\, 2025\, virtual\, 1:00 pm ET
DESCRIPTION:Space News Senior Staff Writer Sandra Erwin will lead a live conversation with Mark Lewis of the Purdue Applied Research Institute on “The Hypersonics Revolution” on March 24\, 2025 at 1:00 pm ET. \nMore information and registration instructions are on the event’s website\, which says: \nHypersonic technology is reshaping the future of national defense—and the stakes have never been higher. As the Pentagon races to develop cutting-edge hypersonic weapons and prepares to launch a major missile defense program to counter emerging threats\, few experts are better equipped to break it all down than Mark Lewis. \nJoin us Mar. 24 for an exclusive one-on-one live interview with one of the nation’s foremost authorities on hypersonics. A former Deputy Undersecretary of Defense for Research and Engineering\, Lewis has been at the center of the Pentagon’s modernization efforts\, shaping the nation’s strategy for developing and deploying these game-changing technologies. \nWe’ll discuss the rapid advancements in hypersonic flight\, the challenges of defending against these high-speed threats\, and what the U.S. must do to maintain its edge in the global hypersonics race. This timely conversation will dive into the science\, strategy\, and policy behind hypersonics—and why this moment is pivotal for national security. \n  \n \n  \n  \n 
URL:https://spacepolicyonline.com/events/the-hypersonics-revolution-conversation-with-mark-lewis-space-news-mar-24-2025-virtual-100-pm-et/
END:VEVENT
END:VCALENDAR