BEGIN:VCALENDAR
VERSION:2.0
PRODID:-//SpacePolicyOnline.com - ECPv6.15.11//NONSGML v1.0//EN
CALSCALE:GREGORIAN
METHOD:PUBLISH
X-WR-CALNAME:SpacePolicyOnline.com
X-ORIGINAL-URL:https://spacepolicyonline.com
X-WR-CALDESC:Events for SpacePolicyOnline.com
REFRESH-INTERVAL;VALUE=DURATION:PT1H
X-Robots-Tag:noindex
X-PUBLISHED-TTL:PT1H
BEGIN:VTIMEZONE
TZID:America/New_York
BEGIN:DAYLIGHT
TZOFFSETFROM:-0500
TZOFFSETTO:-0400
TZNAME:EDT
DTSTART:20160313T070000
END:DAYLIGHT
BEGIN:STANDARD
TZOFFSETFROM:-0400
TZOFFSETTO:-0500
TZNAME:EST
DTSTART:20161106T060000
END:STANDARD
BEGIN:DAYLIGHT
TZOFFSETFROM:-0500
TZOFFSETTO:-0400
TZNAME:EDT
DTSTART:20170312T070000
END:DAYLIGHT
BEGIN:STANDARD
TZOFFSETFROM:-0400
TZOFFSETTO:-0500
TZNAME:EST
DTSTART:20171105T060000
END:STANDARD
BEGIN:DAYLIGHT
TZOFFSETFROM:-0500
TZOFFSETTO:-0400
TZNAME:EDT
DTSTART:20180311T070000
END:DAYLIGHT
BEGIN:STANDARD
TZOFFSETFROM:-0400
TZOFFSETTO:-0500
TZNAME:EST
DTSTART:20181104T060000
END:STANDARD
END:VTIMEZONE
BEGIN:VEVENT
DTSTART;TZID=America/New_York:20170912T170000
DTEND;TZID=America/New_York:20170912T200000
DTSTAMP:20260421T053831
CREATED:20170905T184118Z
LAST-MODIFIED:20170911T210342Z
UID:9731-1505235600-1505246400@spacepolicyonline.com
SUMMARY:THE NEW AMERICAN SPACE AGE (Politico)\, Sept 12\, 2017\, Willard Hotel\, Washington\, DC\, 5:00 pm ET
DESCRIPTION:Politico will hold a “deep-dive conversation” on The New American Space Age on September 12\, 2017 at 5:00 pm ET at the Willard Hotel\, 1401 Pennsylvania Ave NW\, Washington DC.   Panelists are: \n\nJohn Logsdon\, Founding Director and Professor Emeritus\, Space Policy Institute\, The George Washington University\nBob Richards\, Founder and CEO\, Moon Express\nHeather Wilson\, Secretary of the Air Force and Principal DOD Space Adviser\nEric Stallmer\, President\, Commercial Spaceflight Federation\nJamie Morin\, Vice President and Executive Director of the Center for Space Policy and Strategy\, The Aerospace Corporation\n\nMore information is on Politico’s website.   Politico says the event will be webcast beginning at 5:30 pm ET at politico.com/live. \nThe event is presented by DigitalGlobe.
URL:https://spacepolicyonline.com/events/the-new-american-space-age-politico-sept-12-2017-willard-hotel-washington-dc/
END:VEVENT
END:VCALENDAR