BEGIN:VCALENDAR
VERSION:2.0
PRODID:-//SpacePolicyOnline.com - ECPv6.15.11//NONSGML v1.0//EN
CALSCALE:GREGORIAN
METHOD:PUBLISH
X-WR-CALNAME:SpacePolicyOnline.com
X-ORIGINAL-URL:https://spacepolicyonline.com
X-WR-CALDESC:Events for SpacePolicyOnline.com
REFRESH-INTERVAL;VALUE=DURATION:PT1H
X-Robots-Tag:noindex
X-PUBLISHED-TTL:PT1H
BEGIN:VTIMEZONE
TZID:America/New_York
BEGIN:DAYLIGHT
TZOFFSETFROM:-0500
TZOFFSETTO:-0400
TZNAME:EDT
DTSTART:20200308T070000
END:DAYLIGHT
BEGIN:STANDARD
TZOFFSETFROM:-0400
TZOFFSETTO:-0500
TZNAME:EST
DTSTART:20201101T060000
END:STANDARD
BEGIN:DAYLIGHT
TZOFFSETFROM:-0500
TZOFFSETTO:-0400
TZNAME:EDT
DTSTART:20210314T070000
END:DAYLIGHT
BEGIN:STANDARD
TZOFFSETFROM:-0400
TZOFFSETTO:-0500
TZNAME:EST
DTSTART:20211107T060000
END:STANDARD
BEGIN:DAYLIGHT
TZOFFSETFROM:-0500
TZOFFSETTO:-0400
TZNAME:EDT
DTSTART:20220313T070000
END:DAYLIGHT
BEGIN:STANDARD
TZOFFSETFROM:-0400
TZOFFSETTO:-0500
TZNAME:EST
DTSTART:20221106T060000
END:STANDARD
END:VTIMEZONE
BEGIN:VEVENT
DTSTART;TZID=America/New_York:20211022T143000
DTEND;TZID=America/New_York:20211022T230000
DTSTAMP:20260420T181827
CREATED:20211019T163451Z
LAST-MODIFIED:20211019T163644Z
UID:47510-1634913000-1634943600@spacepolicyonline.com
SUMMARY:THE OVERVIEW EFFECT & HUMANITY'S FUTURE (Supercluster/Cosmic Perspective)\, Oct 22\, 2021\, virtual\, 2:30-4:00 pm ET
DESCRIPTION:Supercluster and Cosmic Perspective will host a webinar on October 22\, 2021 from 2:30-4:00 pm ET on “The Overview Effect & Humanity’s Future.” \nMore information is on the event’s website. \nParticipants nclude the following. \n \n  \n  \n \n \n  \n \n  \n 
URL:https://spacepolicyonline.com/events/the-overview-effect-humanitys-future-supercluster-cosmic-perspective-oct-22-2021-virtual-230-400-pm-et/
END:VEVENT
END:VCALENDAR