BEGIN:VCALENDAR
VERSION:2.0
PRODID:-//SpacePolicyOnline.com - ECPv6.15.11//NONSGML v1.0//EN
CALSCALE:GREGORIAN
METHOD:PUBLISH
X-WR-CALNAME:SpacePolicyOnline.com
X-ORIGINAL-URL:https://spacepolicyonline.com
X-WR-CALDESC:Events for SpacePolicyOnline.com
REFRESH-INTERVAL;VALUE=DURATION:PT1H
X-Robots-Tag:noindex
X-PUBLISHED-TTL:PT1H
BEGIN:VTIMEZONE
TZID:America/New_York
BEGIN:DAYLIGHT
TZOFFSETFROM:-0500
TZOFFSETTO:-0400
TZNAME:EDT
DTSTART:20180311T070000
END:DAYLIGHT
BEGIN:STANDARD
TZOFFSETFROM:-0400
TZOFFSETTO:-0500
TZNAME:EST
DTSTART:20181104T060000
END:STANDARD
BEGIN:DAYLIGHT
TZOFFSETFROM:-0500
TZOFFSETTO:-0400
TZNAME:EDT
DTSTART:20190310T070000
END:DAYLIGHT
BEGIN:STANDARD
TZOFFSETFROM:-0400
TZOFFSETTO:-0500
TZNAME:EST
DTSTART:20191103T060000
END:STANDARD
BEGIN:DAYLIGHT
TZOFFSETFROM:-0500
TZOFFSETTO:-0400
TZNAME:EDT
DTSTART:20200308T070000
END:DAYLIGHT
BEGIN:STANDARD
TZOFFSETFROM:-0400
TZOFFSETTO:-0500
TZNAME:EST
DTSTART:20201101T060000
END:STANDARD
END:VTIMEZONE
BEGIN:VEVENT
DTSTART;TZID=America/New_York:20190923T183000
DTEND;TZID=America/New_York:20190923T230000
DTSTAMP:20260422T145058
CREATED:20190919T121919Z
LAST-MODIFIED:20190924T141947Z
UID:29004-1569263400-1569279600@spacepolicyonline.com
SUMMARY:THE UN AND THE PRIVATE SECTOR: BRINGING THE BENEFITS OF SPACE TO EVERYONE\, EVERYWHERE\, Sept 23\, 2019\, New York\, NY\, 6:30 pm ET
DESCRIPTION:Update\, Sept 24:  A video of yesterday’s event is available. \nOriginal Entry: The Governments of Italy\, the United States and Zambia\, and the United Nations Office of Outer Space Affairs (NOOSA)\, will hold a side-event in conjunction with the 74th session of the United Nations General Assembly on “The United Nations and the Private Sector: Bringing the Benefits of Space To Everyone\, Everywhere.”  It will be held at UN headquarters in New York\, New York on September 23\, 2019 at 6:30 pm ET. \nMore information is in the Save the Date notice. \n \nThe agenda as of September 19 is: \n \n 
URL:https://spacepolicyonline.com/events/the-un-and-the-private-sector-bringing-the-benefits-of-space-to-everyone-everywhere-sept-23-2019-new-york-ny-630-pm-et/
END:VEVENT
END:VCALENDAR