BEGIN:VCALENDAR
VERSION:2.0
PRODID:-//SpacePolicyOnline.com - ECPv6.15.11//NONSGML v1.0//EN
CALSCALE:GREGORIAN
METHOD:PUBLISH
X-WR-CALNAME:SpacePolicyOnline.com
X-ORIGINAL-URL:https://spacepolicyonline.com
X-WR-CALDESC:Events for SpacePolicyOnline.com
REFRESH-INTERVAL;VALUE=DURATION:PT1H
X-Robots-Tag:noindex
X-PUBLISHED-TTL:PT1H
BEGIN:VTIMEZONE
TZID:America/New_York
BEGIN:DAYLIGHT
TZOFFSETFROM:-0500
TZOFFSETTO:-0400
TZNAME:EDT
DTSTART:20200308T070000
END:DAYLIGHT
BEGIN:STANDARD
TZOFFSETFROM:-0400
TZOFFSETTO:-0500
TZNAME:EST
DTSTART:20201101T060000
END:STANDARD
BEGIN:DAYLIGHT
TZOFFSETFROM:-0500
TZOFFSETTO:-0400
TZNAME:EDT
DTSTART:20210314T070000
END:DAYLIGHT
BEGIN:STANDARD
TZOFFSETFROM:-0400
TZOFFSETTO:-0500
TZNAME:EST
DTSTART:20211107T060000
END:STANDARD
BEGIN:DAYLIGHT
TZOFFSETFROM:-0500
TZOFFSETTO:-0400
TZNAME:EDT
DTSTART:20220313T070000
END:DAYLIGHT
BEGIN:STANDARD
TZOFFSETFROM:-0400
TZOFFSETTO:-0500
TZNAME:EST
DTSTART:20221106T060000
END:STANDARD
END:VTIMEZONE
BEGIN:VEVENT
DTSTART;TZID=America/New_York:20210929T110000
DTEND;TZID=America/New_York:20210929T230000
DTSTAMP:20260419T154024
CREATED:20210920T163522Z
LAST-MODIFIED:20210920T163522Z
UID:46867-1632913200-1632956400@spacepolicyonline.com
SUMMARY:TO BOLDLY GO: LEADERSHIP\, STRATEGY AND CONFLICT IN THE 21ST CENTURY AND BEYOND (CPSC)\, Sept 29\, 2021\, virtual\, 11:00 am ET
DESCRIPTION:The Center for the Study of the Presidency & Congress (CPSC) will hold a webinar on September 29\, 2021 from 11:00 am – 12:00 pm to discuss a new book\, “To Boldly Go.” \nMore information is on the event’s website\, which says: \nBook Event: To Boldly Go: Leadership\, Strategy\, and Conflict in the 21st Century and Beyond \nThe universes of Star Wars\, Star Trek\, Battlestar Galactica\, and others\, may take place in a galaxy far\, far\, away\, and their crews may be charged with missions of exploring strange\, new worlds\, and seeking out new life and new civilizations\, but they reflect much of our own times\, offering lessons on leadership\, strategy\, and more. CSPC is delighted to host contributors of a new book “To Boldly Go” which explores these universes and more. Drawing out what Captain Picard can teach us about leadership\, whether the X-Wing or the Y-Wing is superior Admiral Adama’s thoughts on strategy\, whether we need to fear a Cylon uprising\, and more\, the authors will offer their thoughts on what we can learn from these universes and how we should think about today’s challenges and those on the horizon. \nSpeakers are: \nDr. Margarita Konaev\nAssociate Director of Analysis and Research Fellow\,\nGeorgetown University’s Center for Security and Emerging Technology\n\nDr. Kathleen J. McInnis\nSpecialist in International Security\, Congressional Research Service\n\nMajor General Mick Ryan (Australian Army\, ret)\nAdjunct Scholar\, Modern War Institute\n\nKera “Puff” Rolsen\nCommander\, 87 EWS Combat Shield\,\nUnited States Air Force\n\nSteven M. Leonard\nSenior Fellow\, Modern War Institute;\nCo-Founder/Board Member\, Military Writers Guild
URL:https://spacepolicyonline.com/events/to-boldly-go-leadership-strategy-and-conflict-in-the-21st-century-and-beyond-cpsc-sept-29-2021-virtual-1100-am-et/
END:VEVENT
END:VCALENDAR