BEGIN:VCALENDAR
VERSION:2.0
PRODID:-//SpacePolicyOnline.com - ECPv6.15.11//NONSGML v1.0//EN
CALSCALE:GREGORIAN
METHOD:PUBLISH
X-WR-CALNAME:SpacePolicyOnline.com
X-ORIGINAL-URL:https://spacepolicyonline.com
X-WR-CALDESC:Events for SpacePolicyOnline.com
REFRESH-INTERVAL;VALUE=DURATION:PT1H
X-Robots-Tag:noindex
X-PUBLISHED-TTL:PT1H
BEGIN:VTIMEZONE
TZID:America/New_York
BEGIN:DAYLIGHT
TZOFFSETFROM:-0500
TZOFFSETTO:-0400
TZNAME:EDT
DTSTART:20240310T070000
END:DAYLIGHT
BEGIN:STANDARD
TZOFFSETFROM:-0400
TZOFFSETTO:-0500
TZNAME:EST
DTSTART:20241103T060000
END:STANDARD
BEGIN:DAYLIGHT
TZOFFSETFROM:-0500
TZOFFSETTO:-0400
TZNAME:EDT
DTSTART:20250309T070000
END:DAYLIGHT
BEGIN:STANDARD
TZOFFSETFROM:-0400
TZOFFSETTO:-0500
TZNAME:EST
DTSTART:20251102T060000
END:STANDARD
BEGIN:DAYLIGHT
TZOFFSETFROM:-0500
TZOFFSETTO:-0400
TZNAME:EDT
DTSTART:20260308T070000
END:DAYLIGHT
BEGIN:STANDARD
TZOFFSETFROM:-0400
TZOFFSETTO:-0500
TZNAME:EST
DTSTART:20261101T060000
END:STANDARD
END:VTIMEZONE
BEGIN:VEVENT
DTSTART;TZID=America/New_York:20250105T073000
DTEND;TZID=America/New_York:20250109T230000
DTSTAMP:20260420T085822
CREATED:20241223T180414Z
LAST-MODIFIED:20241223T180414Z
UID:76823-1736062200-1736463600@spacepolicyonline.com
SUMMARY:TRB 104TH ANNUAL MEETING\, Jan 5-9\, 2024\, DC
DESCRIPTION:The Transportation Research Board (TRB) of the National Academies of Sciences\, Engineering\, and Medicine will hold its 104th Annual Meeting from January 5-9\, 2024 in Washington\, DC in and around the Walter E. Washington Convention Center. \nAt least one of the sessions will discuss space transportation.  Lecture Session 2033 on January 6 from 8:00-9:45 am ET is entitled “Complementary Roles and Responsibilities the Air and Space Transportation Industries Will Face While Using Shared Airspace in the Next 5 Years.” \nOther space-related sessions may be among the many\, many\, many sessions\, but we didn’t see any others. \nMore information about the conference is on the event’s website. \n 
URL:https://spacepolicyonline.com/events/trb-104th-annual-meeting-jan-5-9-2024-dc/
END:VEVENT
END:VCALENDAR