BEGIN:VCALENDAR
VERSION:2.0
PRODID:-//SpacePolicyOnline.com - ECPv6.15.11//NONSGML v1.0//EN
CALSCALE:GREGORIAN
METHOD:PUBLISH
X-WR-CALNAME:SpacePolicyOnline.com
X-ORIGINAL-URL:https://spacepolicyonline.com
X-WR-CALDESC:Events for SpacePolicyOnline.com
REFRESH-INTERVAL;VALUE=DURATION:PT1H
X-Robots-Tag:noindex
X-PUBLISHED-TTL:PT1H
BEGIN:VTIMEZONE
TZID:America/New_York
BEGIN:DAYLIGHT
TZOFFSETFROM:-0500
TZOFFSETTO:-0400
TZNAME:EDT
DTSTART:20240310T070000
END:DAYLIGHT
BEGIN:STANDARD
TZOFFSETFROM:-0400
TZOFFSETTO:-0500
TZNAME:EST
DTSTART:20241103T060000
END:STANDARD
BEGIN:DAYLIGHT
TZOFFSETFROM:-0500
TZOFFSETTO:-0400
TZNAME:EDT
DTSTART:20250309T070000
END:DAYLIGHT
BEGIN:STANDARD
TZOFFSETFROM:-0400
TZOFFSETTO:-0500
TZNAME:EST
DTSTART:20251102T060000
END:STANDARD
BEGIN:DAYLIGHT
TZOFFSETFROM:-0500
TZOFFSETTO:-0400
TZNAME:EDT
DTSTART:20260308T070000
END:DAYLIGHT
BEGIN:STANDARD
TZOFFSETFROM:-0400
TZOFFSETTO:-0500
TZNAME:EST
DTSTART:20261101T060000
END:STANDARD
END:VTIMEZONE
BEGIN:VEVENT
DTSTART;TZID=America/New_York:20250115T130000
DTEND;TZID=America/New_York:20250115T230000
DTSTAMP:20260419T112346
CREATED:20250111T142217Z
LAST-MODIFIED:20250111T142217Z
UID:77175-1736946000-1736982000@spacepolicyonline.com
SUMMARY:TRUMP 2.0-HOW WILL THE SPACE SECTOR CHANGE? (Space News)\, Jan 15\, 2025\, virtual\, 1:00 pm ET
DESCRIPTION:Space News will hold a webinar on January 15\, 2025 at 1:00 pm ET to discusss “Trump 2.0-How Will the Space Sector Change?”. \nMore information is on the event’s website.
URL:https://spacepolicyonline.com/events/trump-2-0-how-will-the-space-sector-change-space-news-jan-15-2025-virtual-100-pm-et/
END:VEVENT
END:VCALENDAR