BEGIN:VCALENDAR
VERSION:2.0
PRODID:-//SpacePolicyOnline.com - ECPv6.15.11//NONSGML v1.0//EN
CALSCALE:GREGORIAN
METHOD:PUBLISH
X-WR-CALNAME:SpacePolicyOnline.com
X-ORIGINAL-URL:https://spacepolicyonline.com
X-WR-CALDESC:Events for SpacePolicyOnline.com
REFRESH-INTERVAL;VALUE=DURATION:PT1H
X-Robots-Tag:noindex
X-PUBLISHED-TTL:PT1H
BEGIN:VTIMEZONE
TZID:America/New_York
BEGIN:DAYLIGHT
TZOFFSETFROM:-0500
TZOFFSETTO:-0400
TZNAME:EDT
DTSTART:20220313T070000
END:DAYLIGHT
BEGIN:STANDARD
TZOFFSETFROM:-0400
TZOFFSETTO:-0500
TZNAME:EST
DTSTART:20221106T060000
END:STANDARD
BEGIN:DAYLIGHT
TZOFFSETFROM:-0500
TZOFFSETTO:-0400
TZNAME:EDT
DTSTART:20230312T070000
END:DAYLIGHT
BEGIN:STANDARD
TZOFFSETFROM:-0400
TZOFFSETTO:-0500
TZNAME:EST
DTSTART:20231105T060000
END:STANDARD
BEGIN:DAYLIGHT
TZOFFSETFROM:-0500
TZOFFSETTO:-0400
TZNAME:EDT
DTSTART:20240310T070000
END:DAYLIGHT
BEGIN:STANDARD
TZOFFSETFROM:-0400
TZOFFSETTO:-0500
TZNAME:EST
DTSTART:20241103T060000
END:STANDARD
END:VTIMEZONE
BEGIN:VEVENT
DTSTART;TZID=America/New_York:20230130T073000
DTEND;TZID=America/New_York:20230203T230000
DTSTAMP:20260422T072713
CREATED:20221208T034719Z
LAST-MODIFIED:20230129T210400Z
UID:58470-1675063800-1675465200@spacepolicyonline.com
SUMMARY:U.N. OEWG ON REDUCING SPACE THREATS\, Jan 30-Feb 3\, 2023\, Geneva
DESCRIPTION:The next meeting of the United Nations Open-Ended Working Group on Reducing Space Threats will take place at the Palais des Nations in Geneva\, Switzerland from January 30-February 3\, 2023. \nMore information is on the event’s website. \nThe aide memoire indicates it will be livestreamed on U.N. Web TV. Plenary meetings are 10:00-13:00 and 15:00-18:00 Central European Time each day (subtract 6 hours for Eastern Standard Time).
URL:https://spacepolicyonline.com/events/u-n-oewg-on-reducing-space-threats-jan-30-feb-3-2023-geneva/
END:VEVENT
END:VCALENDAR