BEGIN:VCALENDAR
VERSION:2.0
PRODID:-//SpacePolicyOnline.com - ECPv6.15.11//NONSGML v1.0//EN
CALSCALE:GREGORIAN
METHOD:PUBLISH
X-WR-CALNAME:SpacePolicyOnline.com
X-ORIGINAL-URL:https://spacepolicyonline.com
X-WR-CALDESC:Events for SpacePolicyOnline.com
REFRESH-INTERVAL;VALUE=DURATION:PT1H
X-Robots-Tag:noindex
X-PUBLISHED-TTL:PT1H
BEGIN:VTIMEZONE
TZID:America/New_York
BEGIN:DAYLIGHT
TZOFFSETFROM:-0500
TZOFFSETTO:-0400
TZNAME:EDT
DTSTART:20180311T070000
END:DAYLIGHT
BEGIN:STANDARD
TZOFFSETFROM:-0400
TZOFFSETTO:-0500
TZNAME:EST
DTSTART:20181104T060000
END:STANDARD
BEGIN:DAYLIGHT
TZOFFSETFROM:-0500
TZOFFSETTO:-0400
TZNAME:EDT
DTSTART:20190310T070000
END:DAYLIGHT
BEGIN:STANDARD
TZOFFSETFROM:-0400
TZOFFSETTO:-0500
TZNAME:EST
DTSTART:20191103T060000
END:STANDARD
BEGIN:DAYLIGHT
TZOFFSETFROM:-0500
TZOFFSETTO:-0400
TZNAME:EDT
DTSTART:20200308T070000
END:DAYLIGHT
BEGIN:STANDARD
TZOFFSETFROM:-0400
TZOFFSETTO:-0500
TZNAME:EST
DTSTART:20201101T060000
END:STANDARD
END:VTIMEZONE
BEGIN:VEVENT
DTSTART;TZID=America/New_York:20190924T090000
DTEND;TZID=America/New_York:20190924T230000
DTSTAMP:20260422T172855
CREATED:20190924T124145Z
LAST-MODIFIED:20190924T124333Z
UID:29185-1569315600-1569366000@spacepolicyonline.com
SUMMARY:U.S.-JAPAN SPACE FORUM: COLLABORATION IN NEW SPACE\, Sept 24\, 2019\, DC\, 9:00-12:00 pm ET
DESCRIPTION:The U.S.-Japan Space Forum will meet on September 24\, 2019 from 9:00 am -12:00 pm ET at the Capitol Visitors Center on Capitol Hill.  The topic is Collaboration in New Space. \nMore information is on the event’s website.
URL:https://spacepolicyonline.com/events/u-s-japan-space-forum-collaboration-in-new-space-sept-24-2019-dc-900-1200-pm-et/
END:VEVENT
END:VCALENDAR