BEGIN:VCALENDAR
VERSION:2.0
PRODID:-//SpacePolicyOnline.com - ECPv6.15.11//NONSGML v1.0//EN
CALSCALE:GREGORIAN
METHOD:PUBLISH
X-WR-CALNAME:SpacePolicyOnline.com
X-ORIGINAL-URL:https://spacepolicyonline.com
X-WR-CALDESC:Events for SpacePolicyOnline.com
REFRESH-INTERVAL;VALUE=DURATION:PT1H
X-Robots-Tag:noindex
X-PUBLISHED-TTL:PT1H
BEGIN:VTIMEZONE
TZID:America/New_York
BEGIN:DAYLIGHT
TZOFFSETFROM:-0500
TZOFFSETTO:-0400
TZNAME:EDT
DTSTART:20210314T070000
END:DAYLIGHT
BEGIN:STANDARD
TZOFFSETFROM:-0400
TZOFFSETTO:-0500
TZNAME:EST
DTSTART:20211107T060000
END:STANDARD
BEGIN:DAYLIGHT
TZOFFSETFROM:-0500
TZOFFSETTO:-0400
TZNAME:EDT
DTSTART:20220313T070000
END:DAYLIGHT
BEGIN:STANDARD
TZOFFSETFROM:-0400
TZOFFSETTO:-0500
TZNAME:EST
DTSTART:20221106T060000
END:STANDARD
BEGIN:DAYLIGHT
TZOFFSETFROM:-0500
TZOFFSETTO:-0400
TZNAME:EDT
DTSTART:20230312T070000
END:DAYLIGHT
BEGIN:STANDARD
TZOFFSETFROM:-0400
TZOFFSETTO:-0500
TZNAME:EST
DTSTART:20231105T060000
END:STANDARD
END:VTIMEZONE
BEGIN:VEVENT
DTSTART;TZID=America/New_York:20220223T100000
DTEND;TZID=America/New_York:20220223T230000
DTSTAMP:20260419T223432
CREATED:20220213T165440Z
LAST-MODIFIED:20220213T165440Z
UID:50493-1645610400-1645657200@spacepolicyonline.com
SUMMARY:U.S. SPACE DIPLOMACY IN CIVIL\, COMMERCIAL\, AND NATL SEC SPACE ACTIVITIES (SPI)\, Feb 23\, 2022\, virtual\, 10:00 am-12:00 pm ET
DESCRIPTION:George Washington University’s Space Policy Institiute will hold a virtual symposium on February 23\, 2022 from 10:00 am – 12:00 pm. \nThe topic is “U.S. Space Diplomancy in Civil\, Commercial\, and National Security Space Activities.” \nMore information is on the event’s website\, which says: \nTwo distinguished panels from the U.S. Department of State and major U.S. allies and partners will discuss the latest diplomatic developments affecting space exploration\, space commerce\, and space security. Panelists will discuss recent developments in the UN Guidelines on the Long-term Sustainability of Space Activities\, a new UN Open-Ended Working Group on outer space security\, the Artemis Accords for space exploration and development\, measures to reduce the growing risk from orbital debris\, and how international cooperation might evolve after the end of the International Space Station program in 2030. \nThe agenda is posted there. \n  \n 
URL:https://spacepolicyonline.com/events/u-s-space-diplomacy-in-civil-commercial-and-natl-sec-space-activities-spi-feb-23-2022-virtual-1000-am-1200-pm-et/
END:VEVENT
END:VCALENDAR