BEGIN:VCALENDAR
VERSION:2.0
PRODID:-//SpacePolicyOnline.com - ECPv6.15.11//NONSGML v1.0//EN
CALSCALE:GREGORIAN
METHOD:PUBLISH
X-WR-CALNAME:SpacePolicyOnline.com
X-ORIGINAL-URL:https://spacepolicyonline.com
X-WR-CALDESC:Events for SpacePolicyOnline.com
REFRESH-INTERVAL;VALUE=DURATION:PT1H
X-Robots-Tag:noindex
X-PUBLISHED-TTL:PT1H
BEGIN:VTIMEZONE
TZID:America/New_York
BEGIN:DAYLIGHT
TZOFFSETFROM:-0500
TZOFFSETTO:-0400
TZNAME:EDT
DTSTART:20210314T070000
END:DAYLIGHT
BEGIN:STANDARD
TZOFFSETFROM:-0400
TZOFFSETTO:-0500
TZNAME:EST
DTSTART:20211107T060000
END:STANDARD
BEGIN:DAYLIGHT
TZOFFSETFROM:-0500
TZOFFSETTO:-0400
TZNAME:EDT
DTSTART:20220313T070000
END:DAYLIGHT
BEGIN:STANDARD
TZOFFSETFROM:-0400
TZOFFSETTO:-0500
TZNAME:EST
DTSTART:20221106T060000
END:STANDARD
BEGIN:DAYLIGHT
TZOFFSETFROM:-0500
TZOFFSETTO:-0400
TZNAME:EDT
DTSTART:20230312T070000
END:DAYLIGHT
BEGIN:STANDARD
TZOFFSETFROM:-0400
TZOFFSETTO:-0500
TZNAME:EST
DTSTART:20231105T060000
END:STANDARD
END:VTIMEZONE
BEGIN:VEVENT
DTSTART;TZID=America/New_York:20220315T063000
DTEND;TZID=America/New_York:20220315T230000
DTSTAMP:20260419T211420
CREATED:20220310T172822Z
LAST-MODIFIED:20220310T173512Z
UID:51261-1647325800-1647385200@spacepolicyonline.com
SUMMARY:U.S. SPACEWALK AT ISS (1 of 2)\, Mar 15\, 2022\, Earth orbit\, 8:05 am ET
DESCRIPTION:NASA astronauts Kayla Barron and Raja Chari will conduct a spacewalk at the International Space Station on March 15\, 2022 beginning at about 8:05 am ET.  NASA TV coverage begins at 6:30 am ET. \nThey will install hardware needed to attach new ISS Roll Out Solar Arrays (iROSAs) in the future.  The spacewalk is expected to last approximately 6.5 hours. \nA second spacewalk is scheduled for March 23. The crew members had not been assigned as of March 10.
URL:https://spacepolicyonline.com/events/u-s-spacewalk-at-iss-1-of-2-mar-15-2022-earth-orbit-805-am-et/
END:VEVENT
END:VCALENDAR