BEGIN:VCALENDAR
VERSION:2.0
PRODID:-//SpacePolicyOnline.com - ECPv6.15.11//NONSGML v1.0//EN
CALSCALE:GREGORIAN
METHOD:PUBLISH
X-WR-CALNAME:SpacePolicyOnline.com
X-ORIGINAL-URL:https://spacepolicyonline.com
X-WR-CALDESC:Events for SpacePolicyOnline.com
REFRESH-INTERVAL;VALUE=DURATION:PT1H
X-Robots-Tag:noindex
X-PUBLISHED-TTL:PT1H
BEGIN:VTIMEZONE
TZID:America/New_York
BEGIN:DAYLIGHT
TZOFFSETFROM:-0500
TZOFFSETTO:-0400
TZNAME:EDT
DTSTART:20230312T070000
END:DAYLIGHT
BEGIN:STANDARD
TZOFFSETFROM:-0400
TZOFFSETTO:-0500
TZNAME:EST
DTSTART:20231105T060000
END:STANDARD
BEGIN:DAYLIGHT
TZOFFSETFROM:-0500
TZOFFSETTO:-0400
TZNAME:EDT
DTSTART:20240310T070000
END:DAYLIGHT
BEGIN:STANDARD
TZOFFSETFROM:-0400
TZOFFSETTO:-0500
TZNAME:EST
DTSTART:20241103T060000
END:STANDARD
BEGIN:DAYLIGHT
TZOFFSETFROM:-0500
TZOFFSETTO:-0400
TZNAME:EDT
DTSTART:20250309T070000
END:DAYLIGHT
BEGIN:STANDARD
TZOFFSETFROM:-0400
TZOFFSETTO:-0500
TZNAME:EST
DTSTART:20251102T060000
END:STANDARD
END:VTIMEZONE
BEGIN:VEVENT
DTSTART;TZID=America/New_York:20241119T073000
DTEND;TZID=America/New_York:20241121T230000
DTSTAMP:20260421T043527
CREATED:20241116T194856Z
LAST-MODIFIED:20241116T194856Z
UID:75918-1732001400-1732230000@spacepolicyonline.com
SUMMARY:UN CONFERENCE ON SPACE LAW AND POLICY\, Nov 19-21\, 2024\, Vienna\, Austria
DESCRIPTION:The United Nations Office of Outer Space Affairs in Vienna\, Austria will hold the United Nations Conference on Space Law on Policy at the Vienna International Center from November 19-21\, 2024. \nThe meeting is in-person only. \nMore informaiton is on the event’s website.
URL:https://spacepolicyonline.com/events/un-conference-on-space-law-and-policy-nov-19-21-2024-vienna-austria/
END:VEVENT
END:VCALENDAR