BEGIN:VCALENDAR
VERSION:2.0
PRODID:-//SpacePolicyOnline.com - ECPv6.15.11//NONSGML v1.0//EN
CALSCALE:GREGORIAN
METHOD:PUBLISH
X-WR-CALNAME:SpacePolicyOnline.com
X-ORIGINAL-URL:https://spacepolicyonline.com
X-WR-CALDESC:Events for SpacePolicyOnline.com
REFRESH-INTERVAL;VALUE=DURATION:PT1H
X-Robots-Tag:noindex
X-PUBLISHED-TTL:PT1H
BEGIN:VTIMEZONE
TZID:America/New_York
BEGIN:DAYLIGHT
TZOFFSETFROM:-0500
TZOFFSETTO:-0400
TZNAME:EDT
DTSTART:20180311T070000
END:DAYLIGHT
BEGIN:STANDARD
TZOFFSETFROM:-0400
TZOFFSETTO:-0500
TZNAME:EST
DTSTART:20181104T060000
END:STANDARD
BEGIN:DAYLIGHT
TZOFFSETFROM:-0500
TZOFFSETTO:-0400
TZNAME:EDT
DTSTART:20190310T070000
END:DAYLIGHT
BEGIN:STANDARD
TZOFFSETFROM:-0400
TZOFFSETTO:-0500
TZNAME:EST
DTSTART:20191103T060000
END:STANDARD
BEGIN:DAYLIGHT
TZOFFSETFROM:-0500
TZOFFSETTO:-0400
TZNAME:EDT
DTSTART:20200308T070000
END:DAYLIGHT
BEGIN:STANDARD
TZOFFSETFROM:-0400
TZOFFSETTO:-0500
TZNAME:EST
DTSTART:20201101T060000
END:STANDARD
END:VTIMEZONE
BEGIN:VEVENT
DTSTART;TZID=America/New_York:20190923T080000
DTEND;TZID=America/New_York:20190926T230000
DTSTAMP:20260422T121703
CREATED:20190807T150713Z
LAST-MODIFIED:20190807T150713Z
UID:28126-1569225600-1569538800@spacepolicyonline.com
SUMMARY:UN/TURKEY/APSCO SPACE LAW AND POLICY CONFERENCE\, Sept 23-26\, 2019\, Istanbul\, Turkey
DESCRIPTION:The United Nations\, the Government of Turkey\, and the Asia Pacific Space Cooperation Organization (APSCO) will hold a Space Law and Policy Conference in Istanbul\, Turkey from September 23-26\, 2019. \nMore information is on the website of the U.N. Office of Outer Space Affairs.
URL:https://spacepolicyonline.com/events/un-turkey-apsco-space-law-and-policy-conference-sept-23-26-2019-istanbul-turkey/
END:VEVENT
END:VCALENDAR