BEGIN:VCALENDAR
VERSION:2.0
PRODID:-//SpacePolicyOnline.com - ECPv6.15.11//NONSGML v1.0//EN
CALSCALE:GREGORIAN
METHOD:PUBLISH
X-WR-CALNAME:SpacePolicyOnline.com
X-ORIGINAL-URL:https://spacepolicyonline.com
X-WR-CALDESC:Events for SpacePolicyOnline.com
REFRESH-INTERVAL;VALUE=DURATION:PT1H
X-Robots-Tag:noindex
X-PUBLISHED-TTL:PT1H
BEGIN:VTIMEZONE
TZID:America/New_York
BEGIN:DAYLIGHT
TZOFFSETFROM:-0500
TZOFFSETTO:-0400
TZNAME:EDT
DTSTART:20160313T070000
END:DAYLIGHT
BEGIN:STANDARD
TZOFFSETFROM:-0400
TZOFFSETTO:-0500
TZNAME:EST
DTSTART:20161106T060000
END:STANDARD
BEGIN:DAYLIGHT
TZOFFSETFROM:-0500
TZOFFSETTO:-0400
TZNAME:EDT
DTSTART:20170312T070000
END:DAYLIGHT
BEGIN:STANDARD
TZOFFSETFROM:-0400
TZOFFSETTO:-0500
TZNAME:EST
DTSTART:20171105T060000
END:STANDARD
BEGIN:DAYLIGHT
TZOFFSETFROM:-0500
TZOFFSETTO:-0400
TZNAME:EDT
DTSTART:20180311T070000
END:DAYLIGHT
BEGIN:STANDARD
TZOFFSETFROM:-0400
TZOFFSETTO:-0500
TZNAME:EST
DTSTART:20181104T060000
END:STANDARD
END:VTIMEZONE
BEGIN:VEVENT
DTSTART;VALUE=DATE:20170820
DTEND;VALUE=DATE:20170821
DTSTAMP:20260422T170237
CREATED:20170812T202809Z
LAST-MODIFIED:20170813T160001Z
UID:9141-1503187200-1503273599@spacepolicyonline.com
SUMMARY:Using NASA Rover Tech to Explore Paintings\, August 20\, 2017\, National Gallery of Art\, Washington\, DC\, 2:00 pm ET
DESCRIPTION:The National Gallery of Art in Washington DC will hold a public lecture on August 20\, 2017 at 2:00 pm ET on “Beyond What the Eye Can See:  Using the Technology of NASA’s Rovers to Explore Paintings.”  The lecturers are John Delaney\, Senior Imaging Scientist\, and Kathryn Dooley\, Imaging Scientist.  The lecture will take place in the East Building Large Auditorium. \nMore information is on the National Gallery of Art’s website.
URL:https://spacepolicyonline.com/events/using-nasa-rover-tech-to-explore-paintings-aug-20-2017-dc/
END:VEVENT
END:VCALENDAR