BEGIN:VCALENDAR
VERSION:2.0
PRODID:-//SpacePolicyOnline.com - ECPv6.15.11//NONSGML v1.0//EN
CALSCALE:GREGORIAN
METHOD:PUBLISH
X-WR-CALNAME:SpacePolicyOnline.com
X-ORIGINAL-URL:https://spacepolicyonline.com
X-WR-CALDESC:Events for SpacePolicyOnline.com
REFRESH-INTERVAL;VALUE=DURATION:PT1H
X-Robots-Tag:noindex
X-PUBLISHED-TTL:PT1H
BEGIN:VTIMEZONE
TZID:America/New_York
BEGIN:DAYLIGHT
TZOFFSETFROM:-0500
TZOFFSETTO:-0400
TZNAME:EDT
DTSTART:20210314T070000
END:DAYLIGHT
BEGIN:STANDARD
TZOFFSETFROM:-0400
TZOFFSETTO:-0500
TZNAME:EST
DTSTART:20211107T060000
END:STANDARD
BEGIN:DAYLIGHT
TZOFFSETFROM:-0500
TZOFFSETTO:-0400
TZNAME:EDT
DTSTART:20220313T070000
END:DAYLIGHT
BEGIN:STANDARD
TZOFFSETFROM:-0400
TZOFFSETTO:-0500
TZNAME:EST
DTSTART:20221106T060000
END:STANDARD
BEGIN:DAYLIGHT
TZOFFSETFROM:-0500
TZOFFSETTO:-0400
TZNAME:EDT
DTSTART:20230312T070000
END:DAYLIGHT
BEGIN:STANDARD
TZOFFSETFROM:-0400
TZOFFSETTO:-0500
TZNAME:EST
DTSTART:20231105T060000
END:STANDARD
END:VTIMEZONE
BEGIN:VEVENT
DTSTART;TZID=America/New_York:20220203T150000
DTEND;TZID=America/New_York:20220203T230000
DTSTAMP:20260420T032954
CREATED:20220123T161556Z
LAST-MODIFIED:20220123T161607Z
UID:49929-1643900400-1643929200@spacepolicyonline.com
SUMMARY:UW SPACE DIALOGUE: ORBITAL DEBRIS AND THE DETERRENCE DILEMMA\, Feb 3\, 2022\, virtual\, 3:00 pm ET
DESCRIPTION:The University of Washington Space Policy and Research Center (SPARC) will hold its next Space Dialogue webinar on February 3\, 2022 at 12:00 pm Pacific Time (3:00 pm Eastern). \nThe topic is “Orbital Debris and the Deterrence Dilemma” with Greg Miller of the Air Command & Staff College. \nMore information is on the event’s website. \n  \n 
URL:https://spacepolicyonline.com/events/uw-space-dialogue-orbital-debris-and-the-deterrence-dilemma-feb-3-2022-virtual-300-pm-et/
END:VEVENT
END:VCALENDAR