BEGIN:VCALENDAR
VERSION:2.0
PRODID:-//SpacePolicyOnline.com - ECPv6.15.11//NONSGML v1.0//EN
CALSCALE:GREGORIAN
METHOD:PUBLISH
X-WR-CALNAME:SpacePolicyOnline.com
X-ORIGINAL-URL:https://spacepolicyonline.com
X-WR-CALDESC:Events for SpacePolicyOnline.com
REFRESH-INTERVAL;VALUE=DURATION:PT1H
X-Robots-Tag:noindex
X-PUBLISHED-TTL:PT1H
BEGIN:VTIMEZONE
TZID:America/New_York
BEGIN:DAYLIGHT
TZOFFSETFROM:-0500
TZOFFSETTO:-0400
TZNAME:EDT
DTSTART:20220313T070000
END:DAYLIGHT
BEGIN:STANDARD
TZOFFSETFROM:-0400
TZOFFSETTO:-0500
TZNAME:EST
DTSTART:20221106T060000
END:STANDARD
BEGIN:DAYLIGHT
TZOFFSETFROM:-0500
TZOFFSETTO:-0400
TZNAME:EDT
DTSTART:20230312T070000
END:DAYLIGHT
BEGIN:STANDARD
TZOFFSETFROM:-0400
TZOFFSETTO:-0500
TZNAME:EST
DTSTART:20231105T060000
END:STANDARD
BEGIN:DAYLIGHT
TZOFFSETFROM:-0500
TZOFFSETTO:-0400
TZNAME:EDT
DTSTART:20240310T070000
END:DAYLIGHT
BEGIN:STANDARD
TZOFFSETFROM:-0400
TZOFFSETTO:-0500
TZNAME:EST
DTSTART:20241103T060000
END:STANDARD
END:VTIMEZONE
BEGIN:VEVENT
DTSTART;TZID=America/New_York:20230109T170000
DTEND;TZID=America/New_York:20230109T230000
DTSTAMP:20260422T113955
CREATED:20230106T152533Z
LAST-MODIFIED:20230109T212503Z
UID:59128-1673283600-1673305200@spacepolicyonline.com
SUMMARY:VIRGIN ORBIT'S FIRST LAUNCH FROM U.K.\, Jan 9\, 2023\, Newquay\, U.K.\, 5:01 pm ET
DESCRIPTION:Update\, January 9\, 4:15 pm ET:  The Virgin Orbit livesteam has started and it shows Cosmic Girl’s takeoff time as 10:01 pm GMT (5:01 pm EST)\, a bit earlier than previously listed. \n \nOriginal Entry: Virgin Orbit has scheduled its first launch from the United Kingdom — its first international launch — for January 9 at 22:16 UTC (5:16 pm ET). Backup launch opportunities are available through mid-January. This is the first launch to orbit from U.K. soil. \nIt will be webcast on Virgin Orbit’s YouTube channel. According to a January 9 tweet from the UK  Space Agency\, the livestream begins at 21:15 GMT\, which is 4:15 pm EST. \n\nT-3 hours! ✈️ 🚀 \nWatch the launch live from 21:15 GMT. 👇 #LaunchUK #StartMeUp #CountdownToCornwallhttps://t.co/BTO3bKkXOJ \n— UK Space Agency (@spacegovuk) January 9\, 2023 \nVirgin Orbit emailed the following detailed information to the media on January 8: \n \nVirgin Orbit’s air-launched rocket\, LauncherOne\, is attached to an airplane\, a Boeing 747 named Cosmic Girl. The runway for this flight is at Spaceport Cornwall in Newquay\, Cornwall\, U.K.  Once at the correct altitude\, Launcher One will drop away from Cosmic Girl and fire its rocket engine to take the payloads to orbit. \nThis launch is named “Start Me Up” which the company says is “in honor of the Rolling Stones’ 1981 hit.” \nThe launch service was purchased by the U.S. National Reconnaissance Office (NRO) as the first task order on NRO’s Streamlined Launch Indefinite Delivery\, Indefinite Quantity Contract or “SLIC.” \nThe manifest includes: \n\nIOD-3 AMBER (aka IOD-3) – Developed by Satellite Applications Catapult (“SA Catapult”) and Horizon Technologies and built by AAC Clyde Space\, all based in the U.K. IOD-3 Amber is expected to be the first of more than 20 Amber satellites to provide space-based Maritime Domain Awareness (MDA) data to users.\nPrometheus-2 – Two cubesats owned by the U.K. Ministry of Defense’s (MOD) Defense Science & Technology Laboratory Dstl. These satellites\, co-funded with Airbus Defence and Space who are designing them jointly with In-Space Missions\, will support MOD science and technology (S&T) activities both in orbit and on the ground through the development of ground systems focused at Dstl’s site near Portsmouth.\nCIRCE (Coordinated Ionospheric Reconstruction CubeSat Experiment) – CIRCE is part of a joint mission between the U.K.’s Defense Science and Technology Laboratory and the U.S. Naval Research Laboratory (NRL).\nDOVER – Developed by RHEA Group in the UK\, it is the company’s first satellite in its 30-year history. The satellite is being co-funded through the European Space Agency’s (ESA) Navigation Program (NAVISP) and built by Open Cosmos of the United Kingdom. DOVER is a SmallSat that was created as a pathfinder for resilient global navigation satellite systems.\nForgeStar-0 – Developed by Space Forge of Wales\, the satellite is a fully returnable and reusable platform to enable in-space manufacturing. This launch will be the first for the company’s ForgeStar platform and will test future returns from space technology.\nAMAN – Oman’s first orbital mission\, it is a single earth observation satellite meant to demonstrate the future feasibility of a larger constellation and was developed after a memorandum of understanding among the Sultanate of Oman\, Polish Small Satellite manufacturer and operator SatRev\, Poland-originated AI data analytics specialists TUATARA\, and Omani-based merging technology innovator ETCO. The agreement includes additional planned small satellites\, including this\, the first in Oman’s history.\nSTORK-6 – Stork-6 is the next installment of Polish Small Satellite manufacturer and operator SatRev’s STORK constellation. Virgin Orbit previously launched two spacecraft in this constellation on a previous launch and looks forward to continuing to launch SatRev’s STORK spacecraft in the future.\n\n 
URL:https://spacepolicyonline.com/events/virgin-orbits-first-launch-from-u-k-jan-9-2023-newquay-u-k-516-pm-et/
END:VEVENT
END:VCALENDAR