BEGIN:VCALENDAR
VERSION:2.0
PRODID:-//SpacePolicyOnline.com - ECPv6.15.11//NONSGML v1.0//EN
CALSCALE:GREGORIAN
METHOD:PUBLISH
X-WR-CALNAME:SpacePolicyOnline.com
X-ORIGINAL-URL:https://spacepolicyonline.com
X-WR-CALDESC:Events for SpacePolicyOnline.com
REFRESH-INTERVAL;VALUE=DURATION:PT1H
X-Robots-Tag:noindex
X-PUBLISHED-TTL:PT1H
BEGIN:VTIMEZONE
TZID:America/New_York
BEGIN:DAYLIGHT
TZOFFSETFROM:-0500
TZOFFSETTO:-0400
TZNAME:EDT
DTSTART:20200308T070000
END:DAYLIGHT
BEGIN:STANDARD
TZOFFSETFROM:-0400
TZOFFSETTO:-0500
TZNAME:EST
DTSTART:20201101T060000
END:STANDARD
BEGIN:DAYLIGHT
TZOFFSETFROM:-0500
TZOFFSETTO:-0400
TZNAME:EDT
DTSTART:20210314T070000
END:DAYLIGHT
BEGIN:STANDARD
TZOFFSETFROM:-0400
TZOFFSETTO:-0500
TZNAME:EST
DTSTART:20211107T060000
END:STANDARD
BEGIN:DAYLIGHT
TZOFFSETFROM:-0500
TZOFFSETTO:-0400
TZNAME:EDT
DTSTART:20220313T070000
END:DAYLIGHT
BEGIN:STANDARD
TZOFFSETFROM:-0400
TZOFFSETTO:-0500
TZNAME:EST
DTSTART:20221106T060000
END:STANDARD
END:VTIMEZONE
BEGIN:VEVENT
DTSTART;TZID=America/New_York:20210414T153000
DTEND;TZID=America/New_York:20210414T230000
DTSTAMP:20260420T061932
CREATED:20210412T214217Z
LAST-MODIFIED:20210412T214217Z
UID:43000-1618414200-1618441200@spacepolicyonline.com
SUMMARY:VIRTUAL MEMORIAL SERVICE FOR GEN. TOM MOORMAN\, JR.\, Apr 14\, 2021\, virtual\, 3:30-5:30 pm ET
DESCRIPTION:The National Security Space Association (NSSA) will host a virtual memorial service for the late Gen. Thomas Moorman\, Jr.\, a legend in national security space circles.  He passed away on June 17\, 2020 at the age of 79.  NSSA created the Moorman Center for Space Studies in his honor. \nThe service will take place on April 14\, 2021 from 3:30-5:30 pm ET via Zoom. \nMore information about Gen. Moorman and the service as well as a registration link are on the event’s website. \nSpeakers include: \n \n\n 
URL:https://spacepolicyonline.com/events/virtual-memorial-service-for-gen-tom-moorman-jr-apr-14-2021-virtual-330-530-pm-et/
END:VEVENT
END:VCALENDAR