BEGIN:VCALENDAR
VERSION:2.0
PRODID:-//SpacePolicyOnline.com - ECPv6.15.11//NONSGML v1.0//EN
CALSCALE:GREGORIAN
METHOD:PUBLISH
X-WR-CALNAME:SpacePolicyOnline.com
X-ORIGINAL-URL:https://spacepolicyonline.com
X-WR-CALDESC:Events for SpacePolicyOnline.com
REFRESH-INTERVAL;VALUE=DURATION:PT1H
X-Robots-Tag:noindex
X-PUBLISHED-TTL:PT1H
BEGIN:VTIMEZONE
TZID:America/New_York
BEGIN:DAYLIGHT
TZOFFSETFROM:-0500
TZOFFSETTO:-0400
TZNAME:EDT
DTSTART:20230312T070000
END:DAYLIGHT
BEGIN:STANDARD
TZOFFSETFROM:-0400
TZOFFSETTO:-0500
TZNAME:EST
DTSTART:20231105T060000
END:STANDARD
BEGIN:DAYLIGHT
TZOFFSETFROM:-0500
TZOFFSETTO:-0400
TZNAME:EDT
DTSTART:20240310T070000
END:DAYLIGHT
BEGIN:STANDARD
TZOFFSETFROM:-0400
TZOFFSETTO:-0500
TZNAME:EST
DTSTART:20241103T060000
END:STANDARD
BEGIN:DAYLIGHT
TZOFFSETFROM:-0500
TZOFFSETTO:-0400
TZNAME:EDT
DTSTART:20250309T070000
END:DAYLIGHT
BEGIN:STANDARD
TZOFFSETFROM:-0400
TZOFFSETTO:-0500
TZNAME:EST
DTSTART:20251102T060000
END:STANDARD
END:VTIMEZONE
BEGIN:VEVENT
DTSTART;TZID=America/New_York:20240919T120000
DTEND;TZID=America/New_York:20240919T230000
DTSTAMP:20260420T224432
CREATED:20240820T185710Z
LAST-MODIFIED:20240820T185757Z
UID:73649-1726747200-1726786800@spacepolicyonline.com
SUMMARY:VIRTUAL TOWN HALL FOR STUDY ON SCIENCE STRATEGY FOR HUMAN EXPL OF MARS (Natl Acad)\, Sept 19\, 2024\, virtual\, 12:00-1:30 pm ET
DESCRIPTION:The National Academies of Sciences\, Engineering\, and Medicine is conducting a study for NASA on “Science Strategy for the Human Exploration of Mars.” \nOn September 19\, 2024 from 12:00-1:30 pm ET\, the study committee will hold a virtual town hall meeting over Zoom where members of the community can learn about the study and speak for up to 2 minutes about their views. \nA second Town Hall will be held in October\, date TBD\, for those who cannot participate in this one. \nMore information is on the event’s website\, which says: \nA Science Strategy for the Human Exploration of Mars invites members of the community to a public townhall-style virtual webinar on September 19 at noon to 1:30 PM eastern time. The webinar will start with an overview of A Science Strategy for the Human Exploration of Mars followed by 1 hour of open mic time where members of the community can speak for up to 2 minutes at a time to provide public input to this study. The webinar will be recorded and transcribed. An additional webinar will occur in late October for members of the community who cannot attend this first webinar.  \n  \n 
URL:https://spacepolicyonline.com/events/virtual-town-hall-for-study-on-science-strategy-for-human-expl-of-mars-natl-acad-sept-19-2024-virtual-1200-130-pm-et/
END:VEVENT
END:VCALENDAR