BEGIN:VCALENDAR
VERSION:2.0
PRODID:-//SpacePolicyOnline.com - ECPv6.15.11//NONSGML v1.0//EN
CALSCALE:GREGORIAN
METHOD:PUBLISH
X-WR-CALNAME:SpacePolicyOnline.com
X-ORIGINAL-URL:https://spacepolicyonline.com
X-WR-CALDESC:Events for SpacePolicyOnline.com
REFRESH-INTERVAL;VALUE=DURATION:PT1H
X-Robots-Tag:noindex
X-PUBLISHED-TTL:PT1H
BEGIN:VTIMEZONE
TZID:America/New_York
BEGIN:DAYLIGHT
TZOFFSETFROM:-0500
TZOFFSETTO:-0400
TZNAME:EDT
DTSTART:20230312T070000
END:DAYLIGHT
BEGIN:STANDARD
TZOFFSETFROM:-0400
TZOFFSETTO:-0500
TZNAME:EST
DTSTART:20231105T060000
END:STANDARD
BEGIN:DAYLIGHT
TZOFFSETFROM:-0500
TZOFFSETTO:-0400
TZNAME:EDT
DTSTART:20240310T070000
END:DAYLIGHT
BEGIN:STANDARD
TZOFFSETFROM:-0400
TZOFFSETTO:-0500
TZNAME:EST
DTSTART:20241103T060000
END:STANDARD
BEGIN:DAYLIGHT
TZOFFSETFROM:-0500
TZOFFSETTO:-0400
TZNAME:EDT
DTSTART:20250309T070000
END:DAYLIGHT
BEGIN:STANDARD
TZOFFSETFROM:-0400
TZOFFSETTO:-0500
TZNAME:EST
DTSTART:20251102T060000
END:STANDARD
END:VTIMEZONE
BEGIN:VEVENT
DTSTART;TZID=America/New_York:20240828T110000
DTEND;TZID=America/New_York:20240828T230000
DTSTAMP:20260421T013156
CREATED:20240818T160229Z
LAST-MODIFIED:20240818T160229Z
UID:73597-1724842800-1724886000@spacepolicyonline.com
SUMMARY:WEAPONS IN SPACE: A VIRTUAL BOOK TALK WITH AARON BATEMAN (CSIS)\, Aug 28\, 2024\, virtual\, 11:00 am-12:00 pm ET
DESCRIPTION:The Center for Strategic and International Studies (CSIS) will hold a virtual book talk on August 28\, 2024 from 11:00 am-12:00 pm ET with Aaron Bateman\, Assistant Professor of History and International Affairs at George Washington University\, on his book “Weapons in Space: Technology\, Politics\, and the Rise and Fall of the Strategic Defense Initiative.” \nMore information and the registration link are on the event’s website.
URL:https://spacepolicyonline.com/events/weapons-in-space-a-virtual-book-talk-with-aaron-bateman-csis-aug-28-2024-virtual-1100-am-1200-pm-et/
END:VEVENT
END:VCALENDAR