BEGIN:VCALENDAR
VERSION:2.0
PRODID:-//SpacePolicyOnline.com - ECPv6.15.11//NONSGML v1.0//EN
CALSCALE:GREGORIAN
METHOD:PUBLISH
X-WR-CALNAME:SpacePolicyOnline.com
X-ORIGINAL-URL:https://spacepolicyonline.com
X-WR-CALDESC:Events for SpacePolicyOnline.com
REFRESH-INTERVAL;VALUE=DURATION:PT1H
X-Robots-Tag:noindex
X-PUBLISHED-TTL:PT1H
BEGIN:VTIMEZONE
TZID:America/New_York
BEGIN:DAYLIGHT
TZOFFSETFROM:-0500
TZOFFSETTO:-0400
TZNAME:EDT
DTSTART:20240310T070000
END:DAYLIGHT
BEGIN:STANDARD
TZOFFSETFROM:-0400
TZOFFSETTO:-0500
TZNAME:EST
DTSTART:20241103T060000
END:STANDARD
BEGIN:DAYLIGHT
TZOFFSETFROM:-0500
TZOFFSETTO:-0400
TZNAME:EDT
DTSTART:20250309T070000
END:DAYLIGHT
BEGIN:STANDARD
TZOFFSETFROM:-0400
TZOFFSETTO:-0500
TZNAME:EST
DTSTART:20251102T060000
END:STANDARD
BEGIN:DAYLIGHT
TZOFFSETFROM:-0500
TZOFFSETTO:-0400
TZNAME:EDT
DTSTART:20260308T070000
END:DAYLIGHT
BEGIN:STANDARD
TZOFFSETFROM:-0400
TZOFFSETTO:-0500
TZNAME:EST
DTSTART:20261101T060000
END:STANDARD
END:VTIMEZONE
BEGIN:VEVENT
DTSTART;TZID=America/New_York:20250122T120000
DTEND;TZID=America/New_York:20250122T230000
DTSTAMP:20260424T163757
CREATED:20250116T182035Z
LAST-MODIFIED:20250116T182035Z
UID:77360-1737547200-1737586800@spacepolicyonline.com
SUMMARY:WHAT'S IN STORE FOR SPACE IN 2025 (WSBR)\, Jan 22\, 2025\, virtual\, 12:00-1:00 pm ET
DESCRIPTION:The Washington Space Business Roundtable (WSBR) will hold a webinar on January 22\, 2025 from 12:00-1:00 pm ET to discuss “What’s in Store for Space in 2025.” \nMore information is on the event’s website. \nParticipants are: \n \n 
URL:https://spacepolicyonline.com/events/whats-in-store-for-space-in-2025-wsbr-jan-22-2025-virtual-1200-100-pm-et/
END:VEVENT
END:VCALENDAR