BEGIN:VCALENDAR
VERSION:2.0
PRODID:-//SpacePolicyOnline.com - ECPv6.15.11//NONSGML v1.0//EN
CALSCALE:GREGORIAN
METHOD:PUBLISH
X-WR-CALNAME:SpacePolicyOnline.com
X-ORIGINAL-URL:https://spacepolicyonline.com
X-WR-CALDESC:Events for SpacePolicyOnline.com
REFRESH-INTERVAL;VALUE=DURATION:PT1H
X-Robots-Tag:noindex
X-PUBLISHED-TTL:PT1H
BEGIN:VTIMEZONE
TZID:America/New_York
BEGIN:DAYLIGHT
TZOFFSETFROM:-0500
TZOFFSETTO:-0400
TZNAME:EDT
DTSTART:20210314T070000
END:DAYLIGHT
BEGIN:STANDARD
TZOFFSETFROM:-0400
TZOFFSETTO:-0500
TZNAME:EST
DTSTART:20211107T060000
END:STANDARD
BEGIN:DAYLIGHT
TZOFFSETFROM:-0500
TZOFFSETTO:-0400
TZNAME:EDT
DTSTART:20220313T070000
END:DAYLIGHT
BEGIN:STANDARD
TZOFFSETFROM:-0400
TZOFFSETTO:-0500
TZNAME:EST
DTSTART:20221106T060000
END:STANDARD
BEGIN:DAYLIGHT
TZOFFSETFROM:-0500
TZOFFSETTO:-0400
TZNAME:EDT
DTSTART:20230312T070000
END:DAYLIGHT
BEGIN:STANDARD
TZOFFSETFROM:-0400
TZOFFSETTO:-0500
TZNAME:EST
DTSTART:20231105T060000
END:STANDARD
END:VTIMEZONE
BEGIN:VEVENT
DTSTART;TZID=America/New_York:20220317T123000
DTEND;TZID=America/New_York:20220317T230000
DTSTAMP:20260419T190635
CREATED:20220312T152537Z
LAST-MODIFIED:20220312T152537Z
UID:51334-1647520200-1647558000@spacepolicyonline.com
SUMMARY:WOMEN DRIVING INNOVATION IN SPACE (NSBE/AIAA)\, Mar 17\, 2022\, virtual\, 12:30-1:00 pm ET
DESCRIPTION:The National Society of Black Engineers (NSBE) Aerospace Special Interest Group and the American Institute of Aeronautics and Astronautics (AIAA) will hold a webinar on March 17\, 2022 from 12:30-1:00 pm ET in celebration of Women’s History Month on “Women Driving Innovation in Space.” \nParticipants are: \n\n\nPatricia Bouknight-Hamilton\, Northrop Grumman Corporation\nShelli Brunswick\, Space Foundation\nMichelle Hanlon\, The University of Mississippi\nJulie Van Kleeck\, AIAA (moderator)\n\nMore information is on the event’s website.
URL:https://spacepolicyonline.com/events/women-driving-innovation-in-space-nsbe-aiaa-mar-17-2022-virtual-1230-100-pm-et/
END:VEVENT
END:VCALENDAR