BEGIN:VCALENDAR
VERSION:2.0
PRODID:-//SpacePolicyOnline.com - ECPv6.15.11//NONSGML v1.0//EN
CALSCALE:GREGORIAN
METHOD:PUBLISH
X-WR-CALNAME:SpacePolicyOnline.com
X-ORIGINAL-URL:https://spacepolicyonline.com
X-WR-CALDESC:Events for SpacePolicyOnline.com
REFRESH-INTERVAL;VALUE=DURATION:PT1H
X-Robots-Tag:noindex
X-PUBLISHED-TTL:PT1H
BEGIN:VTIMEZONE
TZID:America/New_York
BEGIN:DAYLIGHT
TZOFFSETFROM:-0500
TZOFFSETTO:-0400
TZNAME:EDT
DTSTART:20200308T070000
END:DAYLIGHT
BEGIN:STANDARD
TZOFFSETFROM:-0400
TZOFFSETTO:-0500
TZNAME:EST
DTSTART:20201101T060000
END:STANDARD
BEGIN:DAYLIGHT
TZOFFSETFROM:-0500
TZOFFSETTO:-0400
TZNAME:EDT
DTSTART:20210314T070000
END:DAYLIGHT
BEGIN:STANDARD
TZOFFSETFROM:-0400
TZOFFSETTO:-0500
TZNAME:EST
DTSTART:20211107T060000
END:STANDARD
BEGIN:DAYLIGHT
TZOFFSETFROM:-0500
TZOFFSETTO:-0400
TZNAME:EDT
DTSTART:20220313T070000
END:DAYLIGHT
BEGIN:STANDARD
TZOFFSETFROM:-0400
TZOFFSETTO:-0500
TZNAME:EST
DTSTART:20221106T060000
END:STANDARD
END:VTIMEZONE
BEGIN:VEVENT
DTSTART;TZID=America/New_York:20210616T073000
DTEND;TZID=America/New_York:20210618T230000
DTSTAMP:20260419T234352
CREATED:20210324T194950Z
LAST-MODIFIED:20210324T194950Z
UID:42548-1623828600-1624057200@spacepolicyonline.com
SUMMARY:WORKSHOP ON TERRESTRIAL ANALOGS FOR PLANETARY EXPLORATION (USGS)\, June 16-18\, 2021\, virtual
DESCRIPTION:The USGS Astrogeology Science Center will host a virtual workshop on June 16-18\, 2021 on Terrestrial Analogs for Planetary Exploration. \nMore information is on the event’s website\, which says: \n\nPurpose and Scope\nThe USGS Astrogeology Science Center is hosting a virtual Workshop on Terrestrial Analogs for Planetary Exploration from June 16–18\, 2021. The workshop will bring together community members to discuss a wide range of scientific investigations of planetary analog terrains and processes\, exploration strategies\, and orbit-to-ground comparisons. Abstracts are solicited for topics including various planetary processes (volcanic\, impact\, aeolian\, subaqueous\, mass-wasting\, glacial\, tectonic\, and others) as well as geophysical\, geochemical\, and astrobiological investigations. Discussions of field methods\, sampling techniques\, exploration strategies\, technology applications\, and ground-truthing are also solicited\, as are topics related to data standardization and dissemination. In addition\, the workshop aims to address analog work that will benefit human and robotic exploration of other planetary surfaces. \nThis workshop is planned in coordination with the Annual Meeting of Planetary Geologic Mappers (June 14–15). A joint breakout session for both meetings is planned for June 18 to address overlapping topics. Attendees are encouraged to participate in both meetings.
URL:https://spacepolicyonline.com/events/workshop-on-terrestrial-analogs-for-planetary-exploration-usgs-june-16-18-2021-virtual/
END:VEVENT
END:VCALENDAR