BEGIN:VCALENDAR
VERSION:2.0
PRODID:-//SpacePolicyOnline.com - ECPv6.15.11//NONSGML v1.0//EN
CALSCALE:GREGORIAN
METHOD:PUBLISH
X-WR-CALNAME:SpacePolicyOnline.com
X-ORIGINAL-URL:https://spacepolicyonline.com
X-WR-CALDESC:Events for SpacePolicyOnline.com
REFRESH-INTERVAL;VALUE=DURATION:PT1H
X-Robots-Tag:noindex
X-PUBLISHED-TTL:PT1H
BEGIN:VTIMEZONE
TZID:America/New_York
BEGIN:DAYLIGHT
TZOFFSETFROM:-0500
TZOFFSETTO:-0400
TZNAME:EDT
DTSTART:20200308T070000
END:DAYLIGHT
BEGIN:STANDARD
TZOFFSETFROM:-0400
TZOFFSETTO:-0500
TZNAME:EST
DTSTART:20201101T060000
END:STANDARD
BEGIN:DAYLIGHT
TZOFFSETFROM:-0500
TZOFFSETTO:-0400
TZNAME:EDT
DTSTART:20210314T070000
END:DAYLIGHT
BEGIN:STANDARD
TZOFFSETFROM:-0400
TZOFFSETTO:-0500
TZNAME:EST
DTSTART:20211107T060000
END:STANDARD
BEGIN:DAYLIGHT
TZOFFSETFROM:-0500
TZOFFSETTO:-0400
TZNAME:EDT
DTSTART:20220313T070000
END:DAYLIGHT
BEGIN:STANDARD
TZOFFSETFROM:-0400
TZOFFSETTO:-0500
TZNAME:EST
DTSTART:20221106T060000
END:STANDARD
END:VTIMEZONE
BEGIN:VEVENT
DTSTART;TZID=America/New_York:20210908T120000
DTEND;TZID=America/New_York:20210908T230000
DTSTAMP:20260419T134651
CREATED:20210808T150026Z
LAST-MODIFIED:20210826T212906Z
UID:45955-1631102400-1631142000@spacepolicyonline.com
SUMMARY:WSBR FLAGSHIP LUNCHEON WITH GEN. JAMES DICKINSON\, USSPACECOM\, Sept 8\, 2021\, National Harbor\, MD\, 12:00 pm ET
DESCRIPTION:Update\, August 26. 2021:  WSBR has had to cancel this luncheon because of the COVID-19 resurgence. \n\nIn light of the resurgence of the COVID-19 virus and its Delta variant\, we regret to inform you that we must cancel the Washington Space Business Roundtable Annual Flagship Luncheon\, scheduled for September 8\, 2021 in conjunction with the SATELLITE Convention.\n\nOur program with General James H. Dickinson will be held as a virtual meeting at a future date. General Dickinson’s team is working on confirming a date for us at this time.\n\nWe will provide full refunds for those who purchased tables and tickets to attend this event. If you paid by credit card\, we will refund the card that was used for the transaction. No further follow up will be needed.  Please note the refund will show up within the next 30 days.\n\nOn behalf of the Board of Directors for the Washington Space Business Roundtable\, thank you for your continued support of our organization and our youth education mission.  We are working on a robust program calendar with a focus on continuing to bring informative and insightful speakers.\n\nOriginal entry: The Washington Space Business Roundtable (WSBR) will hold its flagship luncheon in connection with the Satellite 2021 conference taking place at the Gaylord National Resort and Convention Center in National Harbor\, MD. \nThe luncheon on September 8 begins at 12:00 pm ET (registration opens at 11:00 am ET).  The speaker is Gen. James Dickinson\, Commander of U.S. Space Command. \nMore information is on the event’s website.
URL:https://spacepolicyonline.com/events/wsbr-flagship-luncheon-with-gen-james-dickinson-usspacecom-sept-8-2021-national-harbor-md-1200-pm-et/
END:VEVENT
END:VCALENDAR