BEGIN:VCALENDAR
VERSION:2.0
PRODID:-//SpacePolicyOnline.com - ECPv6.15.11//NONSGML v1.0//EN
CALSCALE:GREGORIAN
METHOD:PUBLISH
X-WR-CALNAME:SpacePolicyOnline.com
X-ORIGINAL-URL:https://spacepolicyonline.com
X-WR-CALDESC:Events for SpacePolicyOnline.com
REFRESH-INTERVAL;VALUE=DURATION:PT1H
X-Robots-Tag:noindex
X-PUBLISHED-TTL:PT1H
BEGIN:VTIMEZONE
TZID:America/New_York
BEGIN:DAYLIGHT
TZOFFSETFROM:-0500
TZOFFSETTO:-0400
TZNAME:EDT
DTSTART:20180311T070000
END:DAYLIGHT
BEGIN:STANDARD
TZOFFSETFROM:-0400
TZOFFSETTO:-0500
TZNAME:EST
DTSTART:20181104T060000
END:STANDARD
BEGIN:DAYLIGHT
TZOFFSETFROM:-0500
TZOFFSETTO:-0400
TZNAME:EDT
DTSTART:20190310T070000
END:DAYLIGHT
BEGIN:STANDARD
TZOFFSETFROM:-0400
TZOFFSETTO:-0500
TZNAME:EST
DTSTART:20191103T060000
END:STANDARD
BEGIN:DAYLIGHT
TZOFFSETFROM:-0500
TZOFFSETTO:-0400
TZNAME:EDT
DTSTART:20200308T070000
END:DAYLIGHT
BEGIN:STANDARD
TZOFFSETFROM:-0400
TZOFFSETTO:-0500
TZNAME:EST
DTSTART:20201101T060000
END:STANDARD
END:VTIMEZONE
BEGIN:VEVENT
DTSTART;TZID=America/New_York:20190918T113000
DTEND;TZID=America/New_York:20190918T230000
DTSTAMP:20260422T104743
CREATED:20190822T194644Z
LAST-MODIFIED:20190822T194644Z
UID:28373-1568806200-1568847600@spacepolicyonline.com
SUMMARY:WSBR LUNCHEON ON SATCOM DOD-REQUIREMENTS\, CAPABILITIES & ACQUISITION\, Sept 18\, 2019\, DC\, 11:30 am -1:30 pm ET
DESCRIPTION:The Washington Space Business Roundtable (WSBR) will hold a luncheon on September 18\, 2019 from 11:30 am – 1:30 pm ET at Hogans Lovell US LLP\, 555 13th Street\, NW\, Washington\, DC. \nThe topic is SATCOM DOD – Requirements\, Capabilities & Acquisition.  Speakers are: \n\nRebecca Cowan-Hirsch\, Senior Vice President\, Inmarsat Government\, Inc.\nSkot Butler\, President\, Intelsat General Communications\, LLC\nRichard Lober\, Vice President and General Manager\, Hughes Network Systems\, LLC\n\nDetails and registration information are on the WSBR website.
URL:https://spacepolicyonline.com/events/wsbr-luncheon-on-satcom-dod-requirements-capabilities-acquisition-sept-18-2019-dc-1130-am-130-pm-et/
END:VEVENT
END:VCALENDAR