BEGIN:VCALENDAR
VERSION:2.0
PRODID:-//SpacePolicyOnline.com - ECPv6.15.11//NONSGML v1.0//EN
CALSCALE:GREGORIAN
METHOD:PUBLISH
X-WR-CALNAME:SpacePolicyOnline.com
X-ORIGINAL-URL:https://spacepolicyonline.com
X-WR-CALDESC:Events for SpacePolicyOnline.com
REFRESH-INTERVAL;VALUE=DURATION:PT1H
X-Robots-Tag:noindex
X-PUBLISHED-TTL:PT1H
BEGIN:VTIMEZONE
TZID:America/New_York
BEGIN:DAYLIGHT
TZOFFSETFROM:-0500
TZOFFSETTO:-0400
TZNAME:EDT
DTSTART:20200308T070000
END:DAYLIGHT
BEGIN:STANDARD
TZOFFSETFROM:-0400
TZOFFSETTO:-0500
TZNAME:EST
DTSTART:20201101T060000
END:STANDARD
BEGIN:DAYLIGHT
TZOFFSETFROM:-0500
TZOFFSETTO:-0400
TZNAME:EDT
DTSTART:20210314T070000
END:DAYLIGHT
BEGIN:STANDARD
TZOFFSETFROM:-0400
TZOFFSETTO:-0500
TZNAME:EST
DTSTART:20211107T060000
END:STANDARD
BEGIN:DAYLIGHT
TZOFFSETFROM:-0500
TZOFFSETTO:-0400
TZNAME:EDT
DTSTART:20220313T070000
END:DAYLIGHT
BEGIN:STANDARD
TZOFFSETFROM:-0400
TZOFFSETTO:-0500
TZNAME:EST
DTSTART:20221106T060000
END:STANDARD
END:VTIMEZONE
BEGIN:VEVENT
DTSTART;TZID=America/New_York:20210428T120000
DTEND;TZID=America/New_York:20210428T230000
DTSTAMP:20260420T100759
CREATED:20210406T220726Z
LAST-MODIFIED:20210406T220726Z
UID:42806-1619611200-1619650800@spacepolicyonline.com
SUMMARY:WSBR WEBINAR WITH REP. DON BEYER (D-VA)\, Apr 28\, 2021\, virtual\, 12:00-1:00 pm ET
DESCRIPTION:The Washington Space Business Roundtable (WSBR) will hold a webinar on April 28\, 2021 from 12:00-1:00 pm ET. \nThe guest is Rep. Don Beyer (D-VA)\, chair of the Space and Aeronautics Subcommittee of the House Science\, Space\, and Technology Committee. \nMore information is on the event’s website.
URL:https://spacepolicyonline.com/events/wsbr-webinar-with-rep-don-beyer-d-va-apr-28-2021-virtual-1200-100-pm-et/
END:VEVENT
END:VCALENDAR